BEGIN:VCALENDAR
VERSION:2.0
PRODID:-//Phi Lambda Sigma - ECPv6.15.20//NONSGML v1.0//EN
CALSCALE:GREGORIAN
METHOD:PUBLISH
X-WR-CALNAME:Phi Lambda Sigma
X-ORIGINAL-URL:https://philambdasigma.org
X-WR-CALDESC:Events for Phi Lambda Sigma
REFRESH-INTERVAL;VALUE=DURATION:PT1H
X-Robots-Tag:noindex
X-PUBLISHED-TTL:PT1H
BEGIN:VTIMEZONE
TZID:America/New_York
BEGIN:DAYLIGHT
TZOFFSETFROM:-0500
TZOFFSETTO:-0400
TZNAME:EDT
DTSTART:20210314T070000
END:DAYLIGHT
BEGIN:STANDARD
TZOFFSETFROM:-0400
TZOFFSETTO:-0500
TZNAME:EST
DTSTART:20211107T060000
END:STANDARD
BEGIN:DAYLIGHT
TZOFFSETFROM:-0500
TZOFFSETTO:-0400
TZNAME:EDT
DTSTART:20220313T070000
END:DAYLIGHT
BEGIN:STANDARD
TZOFFSETFROM:-0400
TZOFFSETTO:-0500
TZNAME:EST
DTSTART:20221106T060000
END:STANDARD
BEGIN:DAYLIGHT
TZOFFSETFROM:-0500
TZOFFSETTO:-0400
TZNAME:EDT
DTSTART:20230312T070000
END:DAYLIGHT
BEGIN:STANDARD
TZOFFSETFROM:-0400
TZOFFSETTO:-0500
TZNAME:EST
DTSTART:20231105T060000
END:STANDARD
BEGIN:DAYLIGHT
TZOFFSETFROM:-0500
TZOFFSETTO:-0400
TZNAME:EDT
DTSTART:20240310T070000
END:DAYLIGHT
BEGIN:STANDARD
TZOFFSETFROM:-0400
TZOFFSETTO:-0500
TZNAME:EST
DTSTART:20241103T060000
END:STANDARD
END:VTIMEZONE
BEGIN:VEVENT
DTSTART;TZID=America/New_York:20230425T200000
DTEND;TZID=America/New_York:20230425T213000
DTSTAMP:20260425T103855
CREATED:20230221T004802Z
LAST-MODIFIED:20230221T004802Z
UID:86920-1682452800-1682458200@philambdasigma.org
SUMMARY:GiANT Resiliency/Wellbeing Tools with Mary Euler\, PharmD\, FAPhA
DESCRIPTION:Join this virtual 1.5h interactive GiANT session and learn resiliency and wellbeing tools from Mary Euler\, PharmD\, FAPhA! \nRegister HERE!
URL:https://philambdasigma.org/event/giant-resiliency-wellbeing-tools-with-mary-euler-pharmd-fapha/
LOCATION:Zoom
CATEGORIES:GiANT Sessions
ATTACH;FMTTYPE=image/png:https://philambdasigma.org/wp-content/uploads/2022/02/4-1.png
END:VEVENT
BEGIN:VEVENT
DTSTART;TZID=America/New_York:20230415T170000
DTEND;TZID=America/New_York:20230415T180000
DTSTAMP:20260425T103855
CREATED:20230220T231335Z
LAST-MODIFIED:20230323T151320Z
UID:86867-1681578000-1681581600@philambdasigma.org
SUMMARY:2023 PLS Awards Ceremony
DESCRIPTION:The annual PLS Awards Ceremony will take place this year on 4/15/23 from 5pm – 6pm ET\, following the House of Delegates meeting. ALL are welcome and encouraged to attend! Don’t miss awarding of the 2023 PLS Chapter of the Year\, among others! \nRegister to attend HERE!\n2023 Awards Booklet
URL:https://philambdasigma.org/event/2023-pls-awards-ceremony/
LOCATION:Zoom
CATEGORIES:Awards Ceremony
ATTACH;FMTTYPE=image/png:https://philambdasigma.org/wp-content/uploads/2022/02/Untitled-design-18.png
END:VEVENT
BEGIN:VEVENT
DTSTART;TZID=America/New_York:20230415T140000
DTEND;TZID=America/New_York:20230415T170000
DTSTAMP:20260425T103855
CREATED:20230220T230356Z
LAST-MODIFIED:20230413T232959Z
UID:86865-1681567200-1681578000@philambdasigma.org
SUMMARY:2023 PLS House of Delegates
DESCRIPTION:The 2023 PLS House of Delegates will take place virtually on 4/15/23 from 2-5 PM ET followed by the Annual Awards Ceremony from 5-6 PM ET. As a reminder\,  registration is free and each chapter is required to register one delegate and one alternate in case the main delegate is unable to attend. \nPLS Presidents & Advisors: please check your emails for instructions on how to register delegates and alternates\, as well as more information regarding attending House of Delegates. The Zoom link to attend will be provided via email ONLY to the PLS Delegate registered to attend for their Chapter. Didn’t receive an email? Make sure you are subscribed here! \nAll other PLS members not registered as a Delegate will be able to watch the YouTube livestream on the day of the event on our channel HERE. \n 
URL:https://philambdasigma.org/event/2023-pls-house-of-delegates/
LOCATION:Zoom
CATEGORIES:House of Delegates
ATTACH;FMTTYPE=image/png:https://philambdasigma.org/wp-content/uploads/2022/02/Untitled-design-18.png
END:VEVENT
BEGIN:VEVENT
DTSTART;TZID=America/New_York:20230413T180000
DTEND;TZID=America/New_York:20230413T193000
DTSTAMP:20260425T103855
CREATED:20230220T235428Z
LAST-MODIFIED:20230228T024318Z
UID:86892-1681408800-1681414200@philambdasigma.org
SUMMARY:2023 PLS Meet the Candidates Night
DESCRIPTION:Meet this year’s candidates for PLS President-Elect\, Speaker of the House\, and National Member at Large at the annual PLS Meet the Candidates Night\, scheduled this year for 4/13/2023 at 6PM ET via Zoom. \n**All candidates are required to attend.** \nRegister to attend HERE!
URL:https://philambdasigma.org/event/2023-pls-meet-the-candidates-night/
LOCATION:Zoom
CATEGORIES:Meet the Candidates Night
ATTACH;FMTTYPE=image/png:https://philambdasigma.org/wp-content/uploads/2022/02/Untitled-design-18.png
END:VEVENT
BEGIN:VEVENT
DTSTART;TZID=America/New_York:20230331T235900
DTEND;TZID=America/New_York:20230331T235900
DTSTAMP:20260425T103855
CREATED:20230220T233419Z
LAST-MODIFIED:20230220T233419Z
UID:86876-1680307140-1680307140@philambdasigma.org
SUMMARY:2023-2024 National Executive Committee Applications CLOSE
DESCRIPTION:Applications for the National Executive Committee (NEC) will open March 1\, 2023 and CLOSE on March 31\, 2023. Open positions include: President-Elect\, Speaker of the House\, and National Members at Large. \nDuring the open application period\, there will be a webinar to meet the current President-Elect\, Speaker of the House\, and National Members at Large to learn about the roles and responsibilities on 3/7/2023 at 7 PM ET. \nOnce all applications are submitted\, there will be a virtual Meet the Candidates session for President-Elect\, Speaker of the House and National Member at Large on 4/13/2023 at 6PM ET. \nFor more information and to apply for these positions\, visit our website HERE.
URL:https://philambdasigma.org/event/2023-2024-national-executive-committee-applications-close/
CATEGORIES:applications
ATTACH;FMTTYPE=image/png:https://philambdasigma.org/wp-content/uploads/2022/02/Untitled-design-18.png
END:VEVENT
BEGIN:VEVENT
DTSTART;TZID=America/New_York:20230328T200000
DTEND;TZID=America/New_York:20230328T213000
DTSTAMP:20260425T103855
CREATED:20230221T004432Z
LAST-MODIFIED:20230221T005837Z
UID:86918-1680033600-1680039000@philambdasigma.org
SUMMARY:GiANT Communication Tools with Jaclyn Cole\, PharmD\, BCPS
DESCRIPTION:Join this interactive 1.5hr GiANT session to learn to harness your leadership voice and that of others in order to best communicate with your team! \nRegister HERE!
URL:https://philambdasigma.org/event/giant-communication-tools-with-jaclyn-cole-pharmd-bcps/
LOCATION:Zoom
CATEGORIES:GiANT Sessions
ATTACH;FMTTYPE=image/png:https://philambdasigma.org/wp-content/uploads/2022/02/3-1.png
END:VEVENT
BEGIN:VEVENT
DTSTART;TZID=America/New_York:20230307T190000
DTEND;TZID=America/New_York:20230307T203000
DTSTAMP:20260425T103855
CREATED:20230220T234748Z
LAST-MODIFIED:20230228T024528Z
UID:86884-1678215600-1678221000@philambdasigma.org
SUMMARY:2023 PLS Meet the NEC Webinar
DESCRIPTION:Interested in running for a National Executive Committee (NEC) position and want to learn more about the roles and responsibilities of the different positions? Don’t miss the 2023 PLS Meet the NEC Webinar that will take place 3/7/23 @ 7pm ET. All interested candidates are encouraged to attend! \nCan’t make it? Don’t worry\, a recording will be posted to the PLS website here\, shortly after the event. \nRegister to attend HERE!
URL:https://philambdasigma.org/event/2023-pls-meet-the-nec-webinar/
LOCATION:Zoom
CATEGORIES:Meet the NEC
ATTACH;FMTTYPE=image/png:https://philambdasigma.org/wp-content/uploads/2022/02/Untitled-design-18.png
END:VEVENT
BEGIN:VEVENT
DTSTART;TZID=America/New_York:20230301T070000
DTEND;TZID=America/New_York:20230331T235900
DTSTAMP:20260425T103855
CREATED:20230220T232501Z
LAST-MODIFIED:20230220T232501Z
UID:86871-1677654000-1680307140@philambdasigma.org
SUMMARY:2023-2024 National Executive Committee Applications OPEN
DESCRIPTION:Applications for the National Executive Committee (NEC) will open March 1\, 2023 and close on March 31\, 2023. Open positions include: President-Elect\, Speaker of the House\, and National Members at Large. \nDuring the open application period\, there will be a webinar to meet the current President-Elect\, Speaker of the House\, and National Members at Large to learn about the roles and responsibilities on 3/7/2023 at 7 PM ET. \nOnce all applications are submitted\, there will be a virtual Meet the Candidates session for President-Elect\, Speaker of the House and National Member at Large on 4/13/2023 at 6PM ET. \nFor more information and to apply for these positions\, visit our website HERE.
URL:https://philambdasigma.org/event/2023-2024-national-executive-committee-applications-open/
CATEGORIES:applications
ATTACH;FMTTYPE=image/png:https://philambdasigma.org/wp-content/uploads/2022/02/Untitled-design-18.png
END:VEVENT
BEGIN:VEVENT
DTSTART;TZID=America/New_York:20230228T200000
DTEND;TZID=America/New_York:20230228T213000
DTSTAMP:20260425T103855
CREATED:20230221T002620Z
LAST-MODIFIED:20230221T005612Z
UID:86907-1677614400-1677619800@philambdasigma.org
SUMMARY:GiANT 5 Gears with Kristy Brittain\, PharmD\, BCPS\, CDCES
DESCRIPTION:Length: 1.5 hr\n\n\nFocus: Working to improve time management\n\n\nGoal: Helps to build resiliency among teams and individuals\n\n\nRegister HERE!
URL:https://philambdasigma.org/event/giant-5-gears-with-kristy-brittain-pharmd-bcps-cdces/
LOCATION:Zoom
CATEGORIES:GiANT Sessions
ATTACH;FMTTYPE=image/png:https://philambdasigma.org/wp-content/uploads/2021/12/9-1.png
END:VEVENT
BEGIN:VEVENT
DTSTART;TZID=America/New_York:20230215T235900
DTEND;TZID=America/New_York:20230215T235900
DTSTAMP:20260425T103855
CREATED:20220210T003630Z
LAST-MODIFIED:20220917T181756Z
UID:1464-1676505540-1676505540@philambdasigma.org
SUMMARY:Deadline: Chapter Member of the Year Award
DESCRIPTION:Submissions for the PLS Chapter Member of the Year Award are due Feb 15th at 11:59pm PST annually. For more information on this award\, please visit the Awards page of our website.
URL:https://philambdasigma.org/event/deadline-chapter-member-of-the-year-award/
CATEGORIES:Awards Deadlines
ATTACH;FMTTYPE=image/png:https://philambdasigma.org/wp-content/uploads/2022/02/Untitled-design-18.png
END:VEVENT
BEGIN:VEVENT
DTSTART;TZID=America/New_York:20230131T235900
DTEND;TZID=America/New_York:20230131T235900
DTSTAMP:20260425T103855
CREATED:20220210T003957Z
LAST-MODIFIED:20220917T180321Z
UID:1468-1675209540-1675209540@philambdasigma.org
SUMMARY:Deadline: PLS Leadership Challenge
DESCRIPTION:Submissions for the 2022-2023 Charles Thomas Leadership Challenge are due January 31st at @ 11:59pm PST annually. For more information on this award and to submit your application today\, please visit the Annual Leadership Challenge page on our website.
URL:https://philambdasigma.org/event/deadline-charles-thomas-leadership-challenge/
CATEGORIES:Annual Leadership Challenge,Awards Deadlines
ATTACH;FMTTYPE=image/png:https://philambdasigma.org/wp-content/uploads/2022/02/Untitled-design-18.png
END:VEVENT
BEGIN:VEVENT
DTSTART;TZID=America/New_York:20221215T235900
DTEND;TZID=America/New_York:20221215T235900
DTSTAMP:20260425T103855
CREATED:20220210T033023Z
LAST-MODIFIED:20220917T180741Z
UID:1490-1671148740-1671148740@philambdasigma.org
SUMMARY:Deadline: Proctor & Gamble National Leadership Award
DESCRIPTION:Submissions for the Proctor & Gamble National Leadership Award Award are due Dec 15th at 11:59pm PST annually. For more information on this award\, please visit the Awards page of our website.
URL:https://philambdasigma.org/event/deadline-proctor-gamble-national-leadership-award/
CATEGORIES:Awards Deadlines
ATTACH;FMTTYPE=image/png:https://philambdasigma.org/wp-content/uploads/2022/02/Untitled-design-18.png
END:VEVENT
BEGIN:VEVENT
DTSTART;TZID=America/New_York:20221215T235900
DTEND;TZID=America/New_York:20221215T235900
DTSTAMP:20260425T103855
CREATED:20220210T003144Z
LAST-MODIFIED:20220917T180737Z
UID:1458-1671148740-1671148740@philambdasigma.org
SUMMARY:Deadline: Outstanding Chapter Advisor Award
DESCRIPTION:Submissions for the Outstanding Chapter Advisor Award are due Dec 15th at 11:59pm PST annually. For more information on this award\, please visit the Awards page of our website.
URL:https://philambdasigma.org/event/deadline-outstanding-chapter-advisor-award/
CATEGORIES:Awards Deadlines
ATTACH;FMTTYPE=image/png:https://philambdasigma.org/wp-content/uploads/2022/02/Untitled-design-18.png
END:VEVENT
BEGIN:VEVENT
DTSTART;TZID=America/New_York:20221201T235900
DTEND;TZID=America/New_York:20221201T235900
DTSTAMP:20260425T103855
CREATED:20220912T044225Z
LAST-MODIFIED:20220917T180730Z
UID:85669-1669939140-1669939140@philambdasigma.org
SUMMARY:Deadline: Chapter Development Award Spring Semester
DESCRIPTION:Submissions for the Spring Semester Chapter Development Award are due Dec 1st at 11:59pm PST annually. For more information on this award\, please visit the Awards page of our website and select “Chapter Development Award”.
URL:https://philambdasigma.org/event/deadline-chapter-development-award-spring-semester/
CATEGORIES:Awards Deadlines
ATTACH;FMTTYPE=image/png:https://philambdasigma.org/wp-content/uploads/2022/02/Untitled-design-18.png
END:VEVENT
BEGIN:VEVENT
DTSTART;VALUE=DATE:20221201
DTEND;VALUE=DATE:20221202
DTSTAMP:20260425T103855
CREATED:20220210T032705Z
LAST-MODIFIED:20220917T181154Z
UID:1484-1669852800-1669939199@philambdasigma.org
SUMMARY:Deadline: National Pharmacy Leadership Society Founder's Scholarship
DESCRIPTION:Submissions for the National Pharmacy Leadership Society Founder’s Scholarship are due December 1st annually. For more information on this award\, please visit the Awards page of our website.
URL:https://philambdasigma.org/event/deadline-national-pharmacy-leadership-society-founders-scholarship/
CATEGORIES:Awards Deadlines
ATTACH;FMTTYPE=image/png:https://philambdasigma.org/wp-content/uploads/2022/02/Untitled-design-18.png
END:VEVENT
BEGIN:VEVENT
DTSTART;TZID=America/New_York:20221129T200000
DTEND;TZID=America/New_York:20221129T213000
DTSTAMP:20260425T103855
CREATED:20220206T014039Z
LAST-MODIFIED:20221020T021534Z
UID:1079-1669752000-1669757400@philambdasigma.org
SUMMARY:GiANT Resiliency Tools with Anthony DeClue\, PharmD
DESCRIPTION:GiANT Resiliency Tools Session 2
URL:https://philambdasigma.org/event/giant-resiliency-tools-with-anthony-declue-pharmd/
LOCATION:Zoom
CATEGORIES:GiANT Sessions
ATTACH;FMTTYPE=image/png:https://philambdasigma.org/wp-content/uploads/2022/02/2.png
END:VEVENT
BEGIN:VEVENT
DTSTART;VALUE=DATE:20221104
DTEND;VALUE=DATE:20221105
DTSTAMP:20260425T103855
CREATED:20220210T032524Z
LAST-MODIFIED:20220917T174824Z
UID:1482-1667520000-1667606399@philambdasigma.org
SUMMARY:Deadline: Albert B. Prescott Pharmacy Leadership Award
DESCRIPTION:Submissions for the Albert B. Prescott Pharmacy Leadership Award are due November 4th\, 2022. For more information on this award\, please visit the Awards page of our website.
URL:https://philambdasigma.org/event/deadline-albert-b-prescott-pharmacy-leadership-award/
CATEGORIES:Awards Deadlines
ATTACH;FMTTYPE=image/png:https://philambdasigma.org/wp-content/uploads/2022/02/Untitled-design-18.png
END:VEVENT
BEGIN:VEVENT
DTSTART;TZID=America/New_York:20221101T235900
DTEND;TZID=America/New_York:20221101T235900
DTSTAMP:20260425T103855
CREATED:20220210T004902Z
LAST-MODIFIED:20220917T175306Z
UID:1476-1667347140-1667347140@philambdasigma.org
SUMMARY:Deadline: Kathlene A. Hawkins Memorial Travel Award Award - Spring Semester
DESCRIPTION:Submissions for the Kathlene A. Hawkins Memorial Travel Award Award are due Nov 1st at 11:59pm PST annually for events held January 1 – June 30. For more information on this award\, please visit the Awards page of our website.
URL:https://philambdasigma.org/event/deadline-kathlene-a-hawkins-memorial-travel-award-award-spring-semester/
CATEGORIES:Awards Deadlines
ATTACH;FMTTYPE=image/png:https://philambdasigma.org/wp-content/uploads/2022/02/Untitled-design-18.png
END:VEVENT
BEGIN:VEVENT
DTSTART;TZID=America/New_York:20221025T200000
DTEND;TZID=America/New_York:20221025T213000
DTSTAMP:20260425T103855
CREATED:20220206T013852Z
LAST-MODIFIED:20221019T143550Z
UID:1077-1666728000-1666733400@philambdasigma.org
SUMMARY:GiANT 5 Gears with Mary Euler\, PharmD\, FAPhA
DESCRIPTION:GiANT 5 Gears Session 2 \n\n\nLength: 1 hr\n\n\nFocus: Working to improve time management\n\n\nGoal: Helps to build resiliency among teams and individuals
URL:https://philambdasigma.org/event/giant-5-gears-with-mary-euler-pharmd-fapha/
LOCATION:Zoom
CATEGORIES:GiANT Sessions
ATTACH;FMTTYPE=image/png:https://philambdasigma.org/wp-content/uploads/2022/02/4-1.png
END:VEVENT
BEGIN:VEVENT
DTSTART;TZID=America/New_York:20220930T235900
DTEND;TZID=America/New_York:20220930T235900
DTSTAMP:20260425T103855
CREATED:20220210T003836Z
LAST-MODIFIED:20220917T181713Z
UID:1466-1664582340-1664582340@philambdasigma.org
SUMMARY:Deadline: Chapter of the Year Award
DESCRIPTION:Submissions for the Chapter of the Year Award are due via submission of the required Annual Chapter Report by Sep 30th at 11:59pm PST annually. For more information on this award\, please visit the Awards page of our website. \nFor more information on the Annual Chapter Report\, click here.
URL:https://philambdasigma.org/event/deadline-chapter-of-the-year-award/
CATEGORIES:Awards Deadlines
ATTACH;FMTTYPE=image/png:https://philambdasigma.org/wp-content/uploads/2022/02/Untitled-design-18.png
END:VEVENT
BEGIN:VEVENT
DTSTART;TZID=America/New_York:20220927T200000
DTEND;TZID=America/New_York:20220927T213000
DTSTAMP:20260425T103855
CREATED:20220206T013725Z
LAST-MODIFIED:20220906T235746Z
UID:1074-1664308800-1664314200@philambdasigma.org
SUMMARY:GiANT 5 Voices with Anthony DeClue\, PharmD
DESCRIPTION:GiANT 5 Voices Session 4 \n\n\nLength: 1.5 hrs\n\n\nFocus: Understanding your personality and how you and your teammates are “wired”\n\n\nGoal: Leads to more effective communication
URL:https://philambdasigma.org/event/giant-5-voices-with-anthony-declue-pharmd/
LOCATION:Zoom
CATEGORIES:GiANT Sessions
ATTACH;FMTTYPE=image/png:https://philambdasigma.org/wp-content/uploads/2022/02/2.png
END:VEVENT
BEGIN:VEVENT
DTSTART;TZID=America/New_York:20220608T103000
DTEND;TZID=America/New_York:20220608T113000
DTSTAMP:20260425T103855
CREATED:20220428T205853Z
LAST-MODIFIED:20220607T025346Z
UID:2653-1654684200-1654687800@philambdasigma.org
SUMMARY:Chapter Innovation Poster Sessions
DESCRIPTION:All chapters are invited to submit an abstract for the Chapter Innovation Poster Sessions that will take place on Wednesday June 8th\, 2022 from 10:30 AM – 11:30 AM Eastern Time during the 2022 PLS Leadership Summit. \nAt least one presenter must be registered for the Summit and be available during the virtual 10:30 AM – 11:30 AM ET hour dedicated to Poster Session Q&A. \nVisit philambdasigma.org/postersession for more information. Click “register now” to submit your abstract.
URL:https://philambdasigma.org/event/chapter-innovation-poster-sessions/
LOCATION:Zoom
CATEGORIES:Chapter Innovation Poster Session,summit
ATTACH;FMTTYPE=image/png:https://philambdasigma.org/wp-content/uploads/2022/02/Untitled-design-18.png
END:VEVENT
BEGIN:VEVENT
DTSTART;TZID=America/New_York:20220606T080000
DTEND;TZID=America/New_York:20220608T210000
DTSTAMP:20260425T103855
CREATED:20220411T200819Z
LAST-MODIFIED:20220428T194631Z
UID:2387-1654502400-1654722000@philambdasigma.org
SUMMARY:2022 Virtual Leadership Summit; The Power of Your Story: Connect\, Reflect & Lead
DESCRIPTION:Join us for three days of leadership development and interactive workshops!  Attendees will hear from and network with other Phi Lambda Sigma members to inspire transformational change. \nThis conference schedule is jam-packed with opportunities for leadership development and networking opportunities! In addition to an educational seminar led by our keynote speaker\, Katie Quesada\, there will be leadership development workshops centered around GiANT curriculum and impactful sessions that will encourage collaboration among chapters! \nRegister now for the 2022 Phi Lambda Sigma Leadership Summit and get ready to learn the power of your story and how it can help you to connect\, reflect and lead!
URL:https://philambdasigma.org/event/2022-leadership-summit-the-power-of-your-story-connect-reflect-lead/
LOCATION:Virtual Conference
CATEGORIES:summit
ATTACH;FMTTYPE=image/png:https://philambdasigma.org/wp-content/uploads/2022/02/Untitled-design-18.png
END:VEVENT
BEGIN:VEVENT
DTSTART;TZID=America/New_York:20220524T200000
DTEND;TZID=America/New_York:20220524T213000
DTSTAMP:20260425T103855
CREATED:20220206T013523Z
LAST-MODIFIED:20220517T030442Z
UID:1071-1653422400-1653427800@philambdasigma.org
SUMMARY:GiANT 5 Voices with Jaclyn Cole\, PharmD\, BCPS
DESCRIPTION:GiANT 5 Voices Session 3 \n\n\nLength: 1.5 hrs\n\n\nFocus: Understanding your personality and how you and your teammates are “wired”\n\n\nGoal: Leads to more effective communication\n\n\n  \nClick “Register Now” to the right  to sign-up TODAY!
URL:https://philambdasigma.org/event/giant-5-voices-with-jaclyn-cole-pharmd-bcps/
LOCATION:Zoom
CATEGORIES:GiANT Sessions
ATTACH;FMTTYPE=image/png:https://philambdasigma.org/wp-content/uploads/2022/02/3-1.png
END:VEVENT
BEGIN:VEVENT
DTSTART;TZID=America/New_York:20220520T235900
DTEND;TZID=America/New_York:20220520T235900
DTSTAMP:20260425T103855
CREATED:20220304T033851Z
LAST-MODIFIED:20220304T034044Z
UID:1743-1653091140-1653091140@philambdasigma.org
SUMMARY:Regional Liaison Application Deadline
DESCRIPTION:More information on how to apply can be found HERE.
URL:https://philambdasigma.org/event/regional-liaison-application-deadline/
CATEGORIES:applications
ATTACH;FMTTYPE=image/png:https://philambdasigma.org/wp-content/uploads/2022/02/Untitled-design-18.png
END:VEVENT
BEGIN:VEVENT
DTSTART;VALUE=DATE:20220515
DTEND;VALUE=DATE:20220516
DTSTAMP:20260425T103855
CREATED:20220210T032846Z
LAST-MODIFIED:20220917T181121Z
UID:1487-1652572800-1652659199@philambdasigma.org
SUMMARY:Deadline: PLS-AFPE First Year Graduate Scholarship
DESCRIPTION:Submissions for the APLS-AFPE First Year Graduate Scholarship are due May 15th at 11:59pm PST annually. For more information on this award\, please visit the Awards page of our website.
URL:https://philambdasigma.org/event/deadline-pls-afpe-first-year-graduate-scholarship/
CATEGORIES:Awards Deadlines
ATTACH;FMTTYPE=image/png:https://philambdasigma.org/wp-content/uploads/2022/02/Untitled-design-18.png
END:VEVENT
BEGIN:VEVENT
DTSTART;TZID=America/New_York:20220504T203000
DTEND;TZID=America/New_York:20220504T213000
DTSTAMP:20260425T103855
CREATED:20220422T212531Z
LAST-MODIFIED:20220428T195133Z
UID:2579-1651696200-1651699800@philambdasigma.org
SUMMARY:Chapter Session: Leading and Implementing Local Projects
DESCRIPTION:Session Focus: Leading & Implementing Local Projects\nSession Facilitators: Courtney Dawson and Rhea Soltau\n\nChapter Sessions aim to provide the following to Chapter Officers and Chapter Members who attend:\n\nInteractive sessions designed to promote networking\, brainstorming of ideas/projects\, and promote collaboration between different chapters\nInclude small group discussions\, large group discussions\, and key tips from our facilitators.\nLast an hour and are a very relaxed\, social format intended to bring members and chapters together!
URL:https://philambdasigma.org/event/chapter-session-leading-and-implementing-local-projects/
LOCATION:Zoom
CATEGORIES:Chapter Sessions
ATTACH;FMTTYPE=image/png:https://philambdasigma.org/wp-content/uploads/2022/02/Untitled-design-18.png
END:VEVENT
BEGIN:VEVENT
DTSTART;TZID=America/New_York:20220503T203000
DTEND;TZID=America/New_York:20220503T213000
DTSTAMP:20260425T103855
CREATED:20220422T211819Z
LAST-MODIFIED:20220428T195116Z
UID:2577-1651609800-1651613400@philambdasigma.org
SUMMARY:Chapter Session: Engaging General Membership
DESCRIPTION:Session Focus: Engaging General Membership\nSession Facilitators: Tessa Schnelle and Aubrey Jessen\n\nChapter Sessions aim to provide the following to Chapter Officers and Chapter Members who attend:\n\nInteractive sessions designed to promote networking\, brainstorm ideas/projects\, and promote collaboration between different chapters\nInclude small group discussions\, large group discussions\, and key tips from our facilitators.\nLast an hour and are a very relaxed\, social format intended to bring members and chapters together!
URL:https://philambdasigma.org/event/chapter-session-engaging-general-membership/
LOCATION:Zoom
CATEGORIES:Chapter Sessions
ATTACH;FMTTYPE=image/png:https://philambdasigma.org/wp-content/uploads/2022/02/Untitled-design-18.png
END:VEVENT
BEGIN:VEVENT
DTSTART;TZID=America/New_York:20220501T235900
DTEND;TZID=America/New_York:20220501T235900
DTSTAMP:20260425T103855
CREATED:20220210T004737Z
LAST-MODIFIED:20220917T180024Z
UID:1474-1651449540-1651449540@philambdasigma.org
SUMMARY:Deadline: Kathlene A. Hawkins Memorial Travel Award Award - Fall Semester
DESCRIPTION:Submissions for the Kathlene A. Hawkins Memorial Travel Award Award are due May 1st at 11:59pm PST annually for events held July 1 – December 31. For more information on this award\, please visit the Awards page of our website.
URL:https://philambdasigma.org/event/deadline-kathlene-a-hawkins-memorial-travel-award-award-fall-semester/
CATEGORIES:Awards Deadlines
ATTACH;FMTTYPE=image/png:https://philambdasigma.org/wp-content/uploads/2022/02/Untitled-design-18.png
END:VEVENT
BEGIN:VEVENT
DTSTART;TZID=America/New_York:20220426T200000
DTEND;TZID=America/New_York:20220426T213000
DTSTAMP:20260425T103855
CREATED:20220206T013258Z
LAST-MODIFIED:20220425T171253Z
UID:1068-1651003200-1651008600@philambdasigma.org
SUMMARY:GiANT Resiliency Tools with Jaclyn Cole\, PharmD\, BCPS
DESCRIPTION:GiANT Resiliency Tools Session 1
URL:https://philambdasigma.org/event/resiliency-tools-with-jaclyn-cole-pharmd-bcps/
LOCATION:Zoom
CATEGORIES:GiANT Sessions
ATTACH;FMTTYPE=image/png:https://philambdasigma.org/wp-content/uploads/2022/02/3-1.png
END:VEVENT
END:VCALENDAR