BEGIN:VCALENDAR
VERSION:2.0
PRODID:-//Phi Lambda Sigma - ECPv6.15.20//NONSGML v1.0//EN
CALSCALE:GREGORIAN
METHOD:PUBLISH
X-WR-CALNAME:Phi Lambda Sigma
X-ORIGINAL-URL:https://philambdasigma.org
X-WR-CALDESC:Events for Phi Lambda Sigma
REFRESH-INTERVAL;VALUE=DURATION:PT1H
X-Robots-Tag:noindex
X-PUBLISHED-TTL:PT1H
BEGIN:VTIMEZONE
TZID:America/New_York
BEGIN:DAYLIGHT
TZOFFSETFROM:-0500
TZOFFSETTO:-0400
TZNAME:EDT
DTSTART:20220313T070000
END:DAYLIGHT
BEGIN:STANDARD
TZOFFSETFROM:-0400
TZOFFSETTO:-0500
TZNAME:EST
DTSTART:20221106T060000
END:STANDARD
BEGIN:DAYLIGHT
TZOFFSETFROM:-0500
TZOFFSETTO:-0400
TZNAME:EDT
DTSTART:20230312T070000
END:DAYLIGHT
BEGIN:STANDARD
TZOFFSETFROM:-0400
TZOFFSETTO:-0500
TZNAME:EST
DTSTART:20231105T060000
END:STANDARD
BEGIN:DAYLIGHT
TZOFFSETFROM:-0500
TZOFFSETTO:-0400
TZNAME:EDT
DTSTART:20240310T070000
END:DAYLIGHT
BEGIN:STANDARD
TZOFFSETFROM:-0400
TZOFFSETTO:-0500
TZNAME:EST
DTSTART:20241103T060000
END:STANDARD
BEGIN:DAYLIGHT
TZOFFSETFROM:-0500
TZOFFSETTO:-0400
TZNAME:EDT
DTSTART:20250309T070000
END:DAYLIGHT
BEGIN:STANDARD
TZOFFSETFROM:-0400
TZOFFSETTO:-0500
TZNAME:EST
DTSTART:20251102T060000
END:STANDARD
BEGIN:DAYLIGHT
TZOFFSETFROM:-0500
TZOFFSETTO:-0400
TZNAME:EDT
DTSTART:20260308T070000
END:DAYLIGHT
BEGIN:STANDARD
TZOFFSETFROM:-0400
TZOFFSETTO:-0500
TZNAME:EST
DTSTART:20261101T060000
END:STANDARD
END:VTIMEZONE
BEGIN:VEVENT
DTSTART;TZID=America/New_York:20250412T150000
DTEND;TZID=America/New_York:20250412T170000
DTSTAMP:20260425T120541
CREATED:20250411T132406Z
LAST-MODIFIED:20250411T132406Z
UID:92006-1744470000-1744477200@philambdasigma.org
SUMMARY:PLS Awards Ceremony
DESCRIPTION:Join PLS as we celebrate the outstanding achievements of our Society members!
URL:https://philambdasigma.org/event/pls-awards-ceremony-2/
LOCATION:Zoom
CATEGORIES:Awards Ceremony,House of Delegates
ATTACH;FMTTYPE=image/png:https://philambdasigma.org/wp-content/uploads/2025/04/PLSPPTTemplate2.png
END:VEVENT
BEGIN:VEVENT
DTSTART;TZID=America/New_York:20250412T120000
DTEND;TZID=America/New_York:20250412T150000
DTSTAMP:20260425T120541
CREATED:20250324T165159Z
LAST-MODIFIED:20250411T132514Z
UID:91892-1744459200-1744470000@philambdasigma.org
SUMMARY:50th PLS House of Delegates
DESCRIPTION:You are invited to our 50th House of Delegates on April 12th at 12:00 PM ET (9 AM PT). The event will be live-streamed on our YouTube channel for general members. Please see the link provided to watch the live-stream. \nChapter leaders\, please report your delegate information as soon as possible. The submission form should be in your inboxes.
URL:https://philambdasigma.org/event/50th-pls-house-of-delegates/
LOCATION:Zoom
CATEGORIES:House of Delegates
ATTACH;FMTTYPE=image/jpeg:https://philambdasigma.org/wp-content/uploads/2025/03/IMG_1852-e1745284918694.jpeg
END:VEVENT
BEGIN:VEVENT
DTSTART;TZID=America/New_York:20250404T190000
DTEND;TZID=America/New_York:20250404T200000
DTSTAMP:20260425T120541
CREATED:20250324T164306Z
LAST-MODIFIED:20250324T164306Z
UID:91889-1743793200-1743796800@philambdasigma.org
SUMMARY:Meet the Candidates for '25-26 Board of Directors
DESCRIPTION:Come meet the candidates for the ’25-26 PLS Board of Directors! \nOn April 4th\, we invite you to learn more about each candidate. Our Nominating Committee will also briefly share the voting process during the House of Delegates. Reserve the spot on your calendar by registering with the link provided.
URL:https://philambdasigma.org/event/meet-the-candidates-for-25-26-board-of-directors/
LOCATION:Zoom
CATEGORIES:Meet the Candidates Night
ATTACH;FMTTYPE=image/jpeg:https://philambdasigma.org/wp-content/uploads/2025/03/FC58F2E9-293D-40BD-90BA-BAD32727465F.jpeg
END:VEVENT
BEGIN:VEVENT
DTSTART;TZID=America/New_York:20250325T200000
DTEND;TZID=America/New_York:20250325T213000
DTSTAMP:20260425T120541
CREATED:20250304T173901Z
LAST-MODIFIED:20250304T174024Z
UID:91802-1742932800-1742938200@philambdasigma.org
SUMMARY:GiANT Workshop: Delegate with Impact
DESCRIPTION:Join Dr. Brandon Jennings\, PharmD\, BCACP as he guides us through GiANT’s strategy to “Delegate with Impact.” Learn to effectively delegate within your team. This session will be held Tuesday\, March 25 at 8 – 9:30 PM EST on Zoom. All PLS members are welcome to attend this free GiANT session! Please register with the link to the right to receive the Zoom link.
URL:https://philambdasigma.org/event/giant-workshop-delegate-with-impact/
LOCATION:Zoom
CATEGORIES:GiANT Sessions
ATTACH;FMTTYPE=image/png:https://philambdasigma.org/wp-content/uploads/2025/03/Brandon-March-2025-GiANT.png
END:VEVENT
BEGIN:VEVENT
DTSTART;TZID=America/New_York:20250323T180000
DTEND;TZID=America/New_York:20250323T200000
DTSTAMP:20260425T120541
CREATED:20250128T121554Z
LAST-MODIFIED:20250228T214550Z
UID:91665-1742752800-1742760000@philambdasigma.org
SUMMARY:PLS/ Rho Chi APhA Reception Sign-Up
DESCRIPTION:Rho Chi and Phi Lambda Sigma are excited to co-host a reception at APhA on Sunday March 23rd\, 2025\nWe are limited to 250 attendees\, so please grab a spot by entering your information below!\n\n\n\n\nIf you sign up and are unable to attend\, please email Julie Seeger\, Rho Chi National Office Program Manager\, at rhochisociety@umich.edu to remove your name from the list. Thank you! \n\nOther questions can be directed to Katherine Riddle at katherine@philambdasigma.org.
URL:https://philambdasigma.org/event/pls-rho-chi-apha-reception-sign-up/
LOCATION:Liberty Common\, 207 1st Avenue South\, Nashville\, TN\, 37201\, United States
ATTACH;FMTTYPE=image/png:https://philambdasigma.org/wp-content/uploads/2022/02/Untitled-design-17.png
END:VEVENT
BEGIN:VEVENT
DTSTART;TZID=America/New_York:20250225T200000
DTEND;TZID=America/New_York:20250225T213000
DTSTAMP:20260425T120541
CREATED:20250128T122021Z
LAST-MODIFIED:20250128T122111Z
UID:91669-1740513600-1740519000@philambdasigma.org
SUMMARY:GiANT Workshop: Unlocking Potential
DESCRIPTION:Join the GiANT workshop lead by Joclyn Cole PharmD\, BCPS to unlock your leadership potential!
URL:https://philambdasigma.org/event/giant-workshop-unlocking-potential/
LOCATION:Zoom
ATTACH;FMTTYPE=image/jpeg:https://philambdasigma.org/wp-content/uploads/2025/01/Image-1.jpg
END:VEVENT
BEGIN:VEVENT
DTSTART;TZID=America/New_York:20250219T180000
DTEND;TZID=America/New_York:20250219T190000
DTSTAMP:20260425T120541
CREATED:20250207T181951Z
LAST-MODIFIED:20251123T222009Z
UID:91704-1739988000-1739991600@philambdasigma.org
SUMMARY:Innovation in Leadership: Leverage AI Technology to Improve Patient Care Across the World
DESCRIPTION:PLS invites you to attend our Global Health Series February Webinar “Innovation in Leadership: Leverage AI Technology to Improve Patient Care Across the World” with Dr. Scott V. Anderson\, PharmD\, MS\, CPHIMS\, FASHP. Learn about the use of artificial intelligence technology\, and how to use it to improve the patient care experience! Register below\, we look forward to seeing you!
URL:https://philambdasigma.org/event/innovation-in-leadership-leverage-ai-technology-to-improve-patient-care-across-the-world/
LOCATION:Zoom
CATEGORIES:PLS Global Webinar Series
ATTACH;FMTTYPE=image/jpeg:https://philambdasigma.org/wp-content/uploads/2025/02/IMG_1021.jpeg
END:VEVENT
BEGIN:VEVENT
DTSTART;TZID=America/New_York:20250122T190000
DTEND;TZID=America/New_York:20250122T200000
DTSTAMP:20260425T120541
CREATED:20250107T020151Z
LAST-MODIFIED:20250107T020151Z
UID:91600-1737572400-1737576000@philambdasigma.org
SUMMARY:PLS Town Hall
DESCRIPTION:
URL:https://philambdasigma.org/event/pls-town-hall-2/
LOCATION:Zoom
ATTACH;FMTTYPE=image/png:https://philambdasigma.org/wp-content/uploads/2025/01/mail.png
END:VEVENT
BEGIN:VEVENT
DTSTART;TZID=America/New_York:20250117T150000
DTEND;TZID=America/New_York:20250117T160000
DTSTAMP:20260425T120541
CREATED:20250107T020033Z
LAST-MODIFIED:20250107T020033Z
UID:91598-1737126000-1737129600@philambdasigma.org
SUMMARY:PLS Town Hall
DESCRIPTION:
URL:https://philambdasigma.org/event/pls-town-hall/
LOCATION:Zoom
ATTACH;FMTTYPE=image/png:https://philambdasigma.org/wp-content/uploads/2025/01/mail.png
END:VEVENT
BEGIN:VEVENT
DTSTART;TZID=America/New_York:20241217T183000
DTEND;TZID=America/New_York:20241217T190000
DTSTAMP:20260425T120541
CREATED:20241202T140700Z
LAST-MODIFIED:20241212T165334Z
UID:91477-1734460200-1734462000@philambdasigma.org
SUMMARY:Board of Directors Application Q&A Session
DESCRIPTION:Interested in serving on next year’s Board of Directors? Join current Members-at-Large Janie Cole and Christina Kim\, President Caroline Ko\, and Parliamentarian Jamie Wagner for an informational session about the application process. Positions include: Member-at-Large\, Speaker of the House\, and President-Elect. Please fill out the form and sign up to receive the Zoom link.
URL:https://philambdasigma.org/event/board-of-directors-application-qa-session/
LOCATION:Zoom
CATEGORIES:applications
ATTACH;FMTTYPE=image/png:https://philambdasigma.org/wp-content/uploads/2024/12/Board-Intent-to-Run-2025-.png
END:VEVENT
BEGIN:VEVENT
DTSTART;TZID=America/New_York:20241022T200000
DTEND;TZID=America/New_York:20241022T210000
DTSTAMP:20260425T120541
CREATED:20241004T221331Z
LAST-MODIFIED:20241004T221606Z
UID:91395-1729627200-1729630800@philambdasigma.org
SUMMARY:GiANT Workshop: Finding Your Leadership Balance
DESCRIPTION:
URL:https://philambdasigma.org/event/giant-workshop-finding-your-leadership-balance/
LOCATION:Zoom
CATEGORIES:GiANT Sessions
ATTACH;FMTTYPE=image/png:https://philambdasigma.org/wp-content/uploads/2024/10/Euler-10_2024-GiANT-Flyer.png
END:VEVENT
BEGIN:VEVENT
DTSTART;TZID=America/New_York:20241016T203000
DTEND;TZID=America/New_York:20241016T210000
DTSTAMP:20260425T120541
CREATED:20240929T202927Z
LAST-MODIFIED:20241004T101623Z
UID:91368-1729110600-1729112400@philambdasigma.org
SUMMARY:Leadership Challenge Office Hours
DESCRIPTION:Join PLS as we host Office Hours for the Leadership Challenge. Drop in to ask questions and help prepare your Chapter’s Leadership Challenge!
URL:https://philambdasigma.org/event/leadership-challenge-office-hours-2/
LOCATION:Zoom
CATEGORIES:Annual Leadership Challenge
ORGANIZER;CN="Hoai-An Truong":MAILTO:hoai-an@philambdasigma.org
END:VEVENT
BEGIN:VEVENT
DTSTART;TZID=America/New_York:20241010T203000
DTEND;TZID=America/New_York:20241010T213000
DTSTAMP:20260425T120541
CREATED:20240929T202727Z
LAST-MODIFIED:20241004T101509Z
UID:91366-1728592200-1728595800@philambdasigma.org
SUMMARY:Leadership Challenge Office Hours
DESCRIPTION:Join PLS as we host Office Hours for the Leadership Challenge. Drop in to ask questions and help prepare your Chapter’s Leadership Challenge!
URL:https://philambdasigma.org/event/leadership-challenge-office-hours/
LOCATION:Zoom
CATEGORIES:Annual Leadership Challenge
ORGANIZER;CN="Hoai-An Truong":MAILTO:hoai-an@philambdasigma.org
END:VEVENT
BEGIN:VEVENT
DTSTART;TZID=America/New_York:20240924T200000
DTEND;TZID=America/New_York:20240924T213000
DTSTAMP:20260425T120541
CREATED:20240821T193626Z
LAST-MODIFIED:20240821T193717Z
UID:91324-1727208000-1727213400@philambdasigma.org
SUMMARY:GiANT Leadership Training Session
DESCRIPTION:Join Anthony DeClue\, PharmD as he reviews the Know Yourself to Lead Yourself and the Leader Mirror GiANT tools. \nRegister in advance for this meeting:\nhttps://us02web.zoom.us/meeting/register/tZYld-mtrTouE9PSMekeGT8m0tFAdpoToKeM
URL:https://philambdasigma.org/event/giant-leadership-training-session/
LOCATION:Zoom
CATEGORIES:GiANT Sessions
ATTACH;FMTTYPE=image/png:https://philambdasigma.org/wp-content/uploads/2024/08/Anthony-Sept-2024-Know-Yourself-to-Lead-Yourself-1.png
ORGANIZER;CN="Brandon Jennings":MAILTO:brandon@philambdasigma.org
END:VEVENT
BEGIN:VEVENT
DTSTART;TZID=America/New_York:20240413T150000
DTEND;TZID=America/New_York:20240413T163000
DTSTAMP:20260425T120541
CREATED:20240401T235403Z
LAST-MODIFIED:20240413T190310Z
UID:90643-1713020400-1713025800@philambdasigma.org
SUMMARY:Phi Lambda Sigma Awards Reception
DESCRIPTION:Join PLS as we acknowledge our 2024 award recipients! We will have a Youtube Live Stream for your viewing!
URL:https://philambdasigma.org/event/pls-awards-ceremony/
LOCATION:Zoom
CATEGORIES:Awards Ceremony,House of Delegates
ATTACH;FMTTYPE=image/png:https://philambdasigma.org/wp-content/uploads/2024/04/PLS-HOD-Save-the-Date.png
END:VEVENT
BEGIN:VEVENT
DTSTART;TZID=America/New_York:20240413T120000
DTEND;TZID=America/New_York:20240413T150000
DTSTAMP:20260425T120541
CREATED:20240405T145130Z
LAST-MODIFIED:20240413T154742Z
UID:90689-1713009600-1713020400@philambdasigma.org
SUMMARY:Phi Lambda Sigma House of Delegates 2024
DESCRIPTION:Join PLS as we host our 2024 House of Delegates. Youtube live-streaming will be available for your viewing.
URL:https://philambdasigma.org/event/phi-lambda-sigma-house-of-delegates-2024/
CATEGORIES:House of Delegates
ATTACH;FMTTYPE=image/png:https://philambdasigma.org/wp-content/uploads/2023/01/PLS_Logo_for_G_Suite-20191105.png
END:VEVENT
BEGIN:VEVENT
DTSTART;TZID=America/New_York:20240404T200000
DTEND;TZID=America/New_York:20240404T210000
DTSTAMP:20260425T120541
CREATED:20240321T011919Z
LAST-MODIFIED:20240321T011944Z
UID:90497-1712260800-1712264400@philambdasigma.org
SUMMARY:Leadership Summit Networking Session
DESCRIPTION:
URL:https://philambdasigma.org/event/leadership-summit-networking-session/
LOCATION:Zoom
CATEGORIES:Leadership Summit
ATTACH;FMTTYPE=image/png:https://philambdasigma.org/wp-content/uploads/2024/02/Registration-PLS-summit-logo-e1709181189347.png
END:VEVENT
BEGIN:VEVENT
DTSTART;TZID=America/New_York:20240404T190000
DTEND;TZID=America/New_York:20240404T210000
DTSTAMP:20260425T120541
CREATED:20240316T181936Z
LAST-MODIFIED:20240316T182251Z
UID:90419-1712257200-1712264400@philambdasigma.org
SUMMARY:2024 Meet the Candidates Night
DESCRIPTION:
URL:https://philambdasigma.org/event/2024-meet-the-candidates-night/
LOCATION:Zoom
CATEGORIES:Leadership Summit,Meet the Candidates Night
ATTACH;FMTTYPE=image/png:https://philambdasigma.org/wp-content/uploads/2023/04/Summit_Save_the_Date-Green2024-20240129.png
ORGANIZER;CN="Brandon Jennings":MAILTO:brandon@philambdasigma.org
END:VEVENT
BEGIN:VEVENT
DTSTART;TZID=America/New_York:20240404T080000
DTEND;TZID=America/New_York:20240405T170000
DTSTAMP:20260425T120541
CREATED:20240221T183135Z
LAST-MODIFIED:20240229T063124Z
UID:90049-1712217600-1712336400@philambdasigma.org
SUMMARY:Leadership Summit: Be the Change
DESCRIPTION:
URL:https://philambdasigma.org/event/leadership-summit-be-the-change/
LOCATION:Virtual Conference
CATEGORIES:Leadership Summit
ATTACH;FMTTYPE=image/png:https://philambdasigma.org/wp-content/uploads/2024/02/Registration-PLS-summit-logo-e1709181189347.png
END:VEVENT
BEGIN:VEVENT
DTSTART;TZID=America/New_York:20240326T200000
DTEND;TZID=America/New_York:20240326T213000
DTSTAMP:20260425T120541
CREATED:20240308T140709Z
LAST-MODIFIED:20240312T213909Z
UID:90222-1711483200-1711488600@philambdasigma.org
SUMMARY:GiANT Self Awareness 101: Know Others to Lead Others with Dr.  Jaclyn Cole
DESCRIPTION:Join this virtual 1.5h interactive GiANT session on Self Awareness 101. Learn how to harness self awareness and awareness of others’ personalities from Jaclyn Cole\, PharmD\, BCPS\, FFSHP! \nRegister for your Zoom link HERE.
URL:https://philambdasigma.org/event/giant-self-awareness-101-know-others-to-lead-others-with-dr-jaclyn-cole/
LOCATION:Zoom
CATEGORIES:GiANT Sessions
ATTACH;FMTTYPE=image/png:https://philambdasigma.org/wp-content/uploads/2024/03/Jaclyn-March-2024-3.png
END:VEVENT
BEGIN:VEVENT
DTSTART;TZID=America/New_York:20231128T200000
DTEND;TZID=America/New_York:20231128T213000
DTSTAMP:20260425T120541
CREATED:20230221T010236Z
LAST-MODIFIED:20230228T025303Z
UID:86930-1701201600-1701207000@philambdasigma.org
SUMMARY:GiANT Resiliency/Wellbeing Tools with Anthony DeClue\, PharmD
DESCRIPTION:Join this virtual 1.5h interactive GiANT session and learn resiliency and wellbeing tools from Anthony DeClue\, PharmD! \nRegister HERE!
URL:https://philambdasigma.org/event/giant-resiliency-wellbeing-tools-with-anthony-declue-pharmd/
LOCATION:Zoom
CATEGORIES:GiANT Sessions
ATTACH;FMTTYPE=image/png:https://philambdasigma.org/wp-content/uploads/2022/02/2.png
END:VEVENT
BEGIN:VEVENT
DTSTART;TZID=America/New_York:20231024T200000
DTEND;TZID=America/New_York:20231024T213000
DTSTAMP:20260425T120541
CREATED:20230221T005959Z
LAST-MODIFIED:20230221T195052Z
UID:86927-1698177600-1698183000@philambdasigma.org
SUMMARY:GiANT Communication Tools with Mary Euler\, PharmD\, FAPhA
DESCRIPTION:Join this interactive 1.5hr GiANT session to learn to harness your leadership voice and that of others in order to best communicate with your team! \nRegister HERE!
URL:https://philambdasigma.org/event/giant-communication-tools-with-mary-euler-pharmd-fapha/
LOCATION:Zoom
CATEGORIES:GiANT Sessions
ATTACH;FMTTYPE=image/png:https://philambdasigma.org/wp-content/uploads/2022/02/4.png
END:VEVENT
BEGIN:VEVENT
DTSTART;TZID=America/New_York:20230926T200000
DTEND;TZID=America/New_York:20230926T213000
DTSTAMP:20260425T120541
CREATED:20230221T005615Z
LAST-MODIFIED:20230613T183917Z
UID:86924-1695758400-1695763800@philambdasigma.org
SUMMARY:GiANT 5 Gears with Brandon Jennings\, PharmD\, BCACP
DESCRIPTION:Length: 1.5 hr\n\n\nFocus: Working to improve time management\n\n\nGoal: Helps to build resiliency among teams and individuals\n\n\nRegister HERE!
URL:https://philambdasigma.org/event/giant-5-gears-with-kristy-brittain-pharmd-bcps-cdces-2/
LOCATION:Zoom
CATEGORIES:GiANT Sessions
ATTACH;FMTTYPE=image/png:https://philambdasigma.org/wp-content/uploads/2022/02/1-1.png
END:VEVENT
BEGIN:VEVENT
DTSTART;TZID=America/New_York:20230829T200000
DTEND;TZID=America/New_York:20230829T213000
DTSTAMP:20260425T120541
CREATED:20230221T005134Z
LAST-MODIFIED:20230221T005134Z
UID:86922-1693339200-1693344600@philambdasigma.org
SUMMARY:GiANT Session 5 Voices with Anthony DeClue\, PharmD
DESCRIPTION:Length: 1.5 hrs\n\n\nFocus: Understanding your personality and how you and your teammates are “wired”\n\n\nGoal: Leads to more effective communication\n\n\nRegister HERE!
URL:https://philambdasigma.org/event/giant-session-5-voices-with-anthony-declue-pharmd/
LOCATION:Zoom
CATEGORIES:GiANT Sessions
ATTACH;FMTTYPE=image/png:https://philambdasigma.org/wp-content/uploads/2022/02/2-1.png
END:VEVENT
BEGIN:VEVENT
DTSTART;TZID=America/New_York:20230731T235900
DTEND;TZID=America/New_York:20230731T235900
DTSTAMP:20260425T120541
CREATED:20220210T004318Z
LAST-MODIFIED:20220917T181845Z
UID:1470-1690847940-1690847940@philambdasigma.org
SUMMARY:Deadline: Chapter Development Award - Fall Semester
DESCRIPTION:Fall submissions for the Chapter Development Award are due July 31st at 11:59pm PST annually. For more information on this award\, please visit the Chapter Development Award page.
URL:https://philambdasigma.org/event/deadline-chapter-development-award-fall-semester/
CATEGORIES:Awards Deadlines
ATTACH;FMTTYPE=image/png:https://philambdasigma.org/wp-content/uploads/2022/02/Untitled-design-18.png
END:VEVENT
BEGIN:VEVENT
DTSTART;TZID=America/New_York:20230524T150000
DTEND;TZID=America/New_York:20230524T170000
DTSTAMP:20260425T120541
CREATED:20230516T135146Z
LAST-MODIFIED:20230516T135146Z
UID:88451-1684940400-1684947600@philambdasigma.org
SUMMARY:Pre-Leadership Summit: Chapter Advisor Workshop
DESCRIPTION:Chapter Advisors are invited to attend the Pre-Leadership Summit Workshop May 24\, 2023 at 3pm ET via Zoom. \nThis Workshop will aid Chapter Advisors in building the foundation for their Chapter. Chapter sessions are interactive sessions designed to address recent needs expressed in surveys\, promote networking and sharing of ideas/projects\, and enhance collaboration between different chapters. They include panels\, small group discussions and key tips from our facilitators in a relaxed format to bring Chapter Faculty and Advisors together. \nClick HERE to register to attend the Pre-Leadership Summit Workshop on May 24\, 2023 at 3 PM.\nFor more information on the Leadership Summit\, check out website here!
URL:https://philambdasigma.org/event/pre-leadership-summit-chapter-advisor-workshop/
CATEGORIES:Leadership Summit
ATTACH;FMTTYPE=image/jpeg:https://philambdasigma.org/wp-content/uploads/2023/05/Image-1.jpg
END:VEVENT
BEGIN:VEVENT
DTSTART;VALUE=DATE:20230501
DTEND;VALUE=DATE:20230520
DTSTAMP:20260425T120541
CREATED:20230508T163152Z
LAST-MODIFIED:20230508T164547Z
UID:88343-1682899200-1684540799@philambdasigma.org
SUMMARY:2023 Chapter Innovation Poster Session: Call for Abstracts
DESCRIPTION:Chapters are invited to submit an abstract for the Chapter Innovation Poster Sessions that will be held on Friday\, June 16th\, 2023 from 6-7 PM ET\, during this year’s 2023 PLS Leadership Summit: Building the Leader! \nAbstracts are DUE: May 19th\, 2023 at 11:59pm ET \nSubmitters will receive notice of abstract approval by May 29th\, 2023. Finalized posters & recorded presentations are due Friday June 9th\, 2023 at 11:59pm ET. \nFor more information regarding abstraction requirements\, how to submit\, and examples of previous submissions visit our website HERE!\nAbstract ready to go? Submit HERE today!
URL:https://philambdasigma.org/event/2023-chapter-innovation-poster-session-call-for-abstracts/
CATEGORIES:Chapter Innovation Poster Session,Leadership Summit
ATTACH;FMTTYPE=image/png:https://philambdasigma.org/wp-content/uploads/2023/05/Call-for-Abstracts-1.png
END:VEVENT
BEGIN:VEVENT
DTSTART;TZID=America/New_York:20230425T200000
DTEND;TZID=America/New_York:20230425T213000
DTSTAMP:20260425T120541
CREATED:20230221T004802Z
LAST-MODIFIED:20230221T004802Z
UID:86920-1682452800-1682458200@philambdasigma.org
SUMMARY:GiANT Resiliency/Wellbeing Tools with Mary Euler\, PharmD\, FAPhA
DESCRIPTION:Join this virtual 1.5h interactive GiANT session and learn resiliency and wellbeing tools from Mary Euler\, PharmD\, FAPhA! \nRegister HERE!
URL:https://philambdasigma.org/event/giant-resiliency-wellbeing-tools-with-mary-euler-pharmd-fapha/
LOCATION:Zoom
CATEGORIES:GiANT Sessions
ATTACH;FMTTYPE=image/png:https://philambdasigma.org/wp-content/uploads/2022/02/4-1.png
END:VEVENT
BEGIN:VEVENT
DTSTART;TZID=America/New_York:20230415T170000
DTEND;TZID=America/New_York:20230415T180000
DTSTAMP:20260425T120541
CREATED:20230220T231335Z
LAST-MODIFIED:20230323T151320Z
UID:86867-1681578000-1681581600@philambdasigma.org
SUMMARY:2023 PLS Awards Ceremony
DESCRIPTION:The annual PLS Awards Ceremony will take place this year on 4/15/23 from 5pm – 6pm ET\, following the House of Delegates meeting. ALL are welcome and encouraged to attend! Don’t miss awarding of the 2023 PLS Chapter of the Year\, among others! \nRegister to attend HERE!\n2023 Awards Booklet
URL:https://philambdasigma.org/event/2023-pls-awards-ceremony/
LOCATION:Zoom
CATEGORIES:Awards Ceremony
ATTACH;FMTTYPE=image/png:https://philambdasigma.org/wp-content/uploads/2022/02/Untitled-design-18.png
END:VEVENT
BEGIN:VEVENT
DTSTART;TZID=America/New_York:20230415T140000
DTEND;TZID=America/New_York:20230415T170000
DTSTAMP:20260425T120541
CREATED:20230220T230356Z
LAST-MODIFIED:20230413T232959Z
UID:86865-1681567200-1681578000@philambdasigma.org
SUMMARY:2023 PLS House of Delegates
DESCRIPTION:The 2023 PLS House of Delegates will take place virtually on 4/15/23 from 2-5 PM ET followed by the Annual Awards Ceremony from 5-6 PM ET. As a reminder\,  registration is free and each chapter is required to register one delegate and one alternate in case the main delegate is unable to attend. \nPLS Presidents & Advisors: please check your emails for instructions on how to register delegates and alternates\, as well as more information regarding attending House of Delegates. The Zoom link to attend will be provided via email ONLY to the PLS Delegate registered to attend for their Chapter. Didn’t receive an email? Make sure you are subscribed here! \nAll other PLS members not registered as a Delegate will be able to watch the YouTube livestream on the day of the event on our channel HERE. \n 
URL:https://philambdasigma.org/event/2023-pls-house-of-delegates/
LOCATION:Zoom
CATEGORIES:House of Delegates
ATTACH;FMTTYPE=image/png:https://philambdasigma.org/wp-content/uploads/2022/02/Untitled-design-18.png
END:VEVENT
END:VCALENDAR