BEGIN:VCALENDAR
VERSION:2.0
PRODID:-//Phi Lambda Sigma - ECPv6.15.20//NONSGML v1.0//EN
CALSCALE:GREGORIAN
METHOD:PUBLISH
X-WR-CALNAME:Phi Lambda Sigma
X-ORIGINAL-URL:https://philambdasigma.org
X-WR-CALDESC:Events for Phi Lambda Sigma
REFRESH-INTERVAL;VALUE=DURATION:PT1H
X-Robots-Tag:noindex
X-PUBLISHED-TTL:PT1H
BEGIN:VTIMEZONE
TZID:America/New_York
BEGIN:DAYLIGHT
TZOFFSETFROM:-0500
TZOFFSETTO:-0400
TZNAME:EDT
DTSTART:20220313T070000
END:DAYLIGHT
BEGIN:STANDARD
TZOFFSETFROM:-0400
TZOFFSETTO:-0500
TZNAME:EST
DTSTART:20221106T060000
END:STANDARD
BEGIN:DAYLIGHT
TZOFFSETFROM:-0500
TZOFFSETTO:-0400
TZNAME:EDT
DTSTART:20230312T070000
END:DAYLIGHT
BEGIN:STANDARD
TZOFFSETFROM:-0400
TZOFFSETTO:-0500
TZNAME:EST
DTSTART:20231105T060000
END:STANDARD
BEGIN:DAYLIGHT
TZOFFSETFROM:-0500
TZOFFSETTO:-0400
TZNAME:EDT
DTSTART:20240310T070000
END:DAYLIGHT
BEGIN:STANDARD
TZOFFSETFROM:-0400
TZOFFSETTO:-0500
TZNAME:EST
DTSTART:20241103T060000
END:STANDARD
END:VTIMEZONE
BEGIN:VEVENT
DTSTART;TZID=America/New_York:20230307T190000
DTEND;TZID=America/New_York:20230307T203000
DTSTAMP:20260423T131230
CREATED:20230220T234748Z
LAST-MODIFIED:20230228T024528Z
UID:86884-1678215600-1678221000@philambdasigma.org
SUMMARY:2023 PLS Meet the NEC Webinar
DESCRIPTION:Interested in running for a National Executive Committee (NEC) position and want to learn more about the roles and responsibilities of the different positions? Don’t miss the 2023 PLS Meet the NEC Webinar that will take place 3/7/23 @ 7pm ET. All interested candidates are encouraged to attend! \nCan’t make it? Don’t worry\, a recording will be posted to the PLS website here\, shortly after the event. \nRegister to attend HERE!
URL:https://philambdasigma.org/event/2023-pls-meet-the-nec-webinar/
LOCATION:Zoom
CATEGORIES:Meet the NEC
ATTACH;FMTTYPE=image/png:https://philambdasigma.org/wp-content/uploads/2022/02/Untitled-design-18.png
END:VEVENT
END:VCALENDAR