BEGIN:VCALENDAR
VERSION:2.0
PRODID:-//Phi Lambda Sigma - ECPv6.15.20//NONSGML v1.0//EN
CALSCALE:GREGORIAN
METHOD:PUBLISH
X-ORIGINAL-URL:https://philambdasigma.org
X-WR-CALDESC:Events for Phi Lambda Sigma
REFRESH-INTERVAL;VALUE=DURATION:PT1H
X-Robots-Tag:noindex
X-PUBLISHED-TTL:PT1H
BEGIN:VTIMEZONE
TZID:America/New_York
BEGIN:DAYLIGHT
TZOFFSETFROM:-0500
TZOFFSETTO:-0400
TZNAME:EDT
DTSTART:20220313T070000
END:DAYLIGHT
BEGIN:STANDARD
TZOFFSETFROM:-0400
TZOFFSETTO:-0500
TZNAME:EST
DTSTART:20221106T060000
END:STANDARD
BEGIN:DAYLIGHT
TZOFFSETFROM:-0500
TZOFFSETTO:-0400
TZNAME:EDT
DTSTART:20230312T070000
END:DAYLIGHT
BEGIN:STANDARD
TZOFFSETFROM:-0400
TZOFFSETTO:-0500
TZNAME:EST
DTSTART:20231105T060000
END:STANDARD
BEGIN:DAYLIGHT
TZOFFSETFROM:-0500
TZOFFSETTO:-0400
TZNAME:EDT
DTSTART:20240310T070000
END:DAYLIGHT
BEGIN:STANDARD
TZOFFSETFROM:-0400
TZOFFSETTO:-0500
TZNAME:EST
DTSTART:20241103T060000
END:STANDARD
BEGIN:DAYLIGHT
TZOFFSETFROM:-0500
TZOFFSETTO:-0400
TZNAME:EDT
DTSTART:20250309T070000
END:DAYLIGHT
BEGIN:STANDARD
TZOFFSETFROM:-0400
TZOFFSETTO:-0500
TZNAME:EST
DTSTART:20251102T060000
END:STANDARD
BEGIN:DAYLIGHT
TZOFFSETFROM:-0500
TZOFFSETTO:-0400
TZNAME:EDT
DTSTART:20260308T070000
END:DAYLIGHT
BEGIN:STANDARD
TZOFFSETFROM:-0400
TZOFFSETTO:-0500
TZNAME:EST
DTSTART:20261101T060000
END:STANDARD
END:VTIMEZONE
BEGIN:VEVENT
DTSTART;TZID=America/New_York:20250404T190000
DTEND;TZID=America/New_York:20250404T200000
DTSTAMP:20260423T142836
CREATED:20250324T164306Z
LAST-MODIFIED:20250324T164306Z
UID:91889-1743793200-1743796800@philambdasigma.org
SUMMARY:Meet the Candidates for '25-26 Board of Directors
DESCRIPTION:Come meet the candidates for the ’25-26 PLS Board of Directors! \nOn April 4th\, we invite you to learn more about each candidate. Our Nominating Committee will also briefly share the voting process during the House of Delegates. Reserve the spot on your calendar by registering with the link provided.
URL:https://philambdasigma.org/event/meet-the-candidates-for-25-26-board-of-directors/
LOCATION:Zoom
CATEGORIES:Meet the Candidates Night
ATTACH;FMTTYPE=image/jpeg:https://philambdasigma.org/wp-content/uploads/2025/03/FC58F2E9-293D-40BD-90BA-BAD32727465F.jpeg
END:VEVENT
BEGIN:VEVENT
DTSTART;TZID=America/New_York:20240404T190000
DTEND;TZID=America/New_York:20240404T210000
DTSTAMP:20260423T142836
CREATED:20240316T181936Z
LAST-MODIFIED:20240316T182251Z
UID:90419-1712257200-1712264400@philambdasigma.org
SUMMARY:2024 Meet the Candidates Night
DESCRIPTION:
URL:https://philambdasigma.org/event/2024-meet-the-candidates-night/
LOCATION:Zoom
CATEGORIES:Leadership Summit,Meet the Candidates Night
ATTACH;FMTTYPE=image/png:https://philambdasigma.org/wp-content/uploads/2023/04/Summit_Save_the_Date-Green2024-20240129.png
ORGANIZER;CN="Brandon Jennings":MAILTO:brandon@philambdasigma.org
END:VEVENT
BEGIN:VEVENT
DTSTART;TZID=America/New_York:20230413T180000
DTEND;TZID=America/New_York:20230413T193000
DTSTAMP:20260423T142836
CREATED:20230220T235428Z
LAST-MODIFIED:20230228T024318Z
UID:86892-1681408800-1681414200@philambdasigma.org
SUMMARY:2023 PLS Meet the Candidates Night
DESCRIPTION:Meet this year’s candidates for PLS President-Elect\, Speaker of the House\, and National Member at Large at the annual PLS Meet the Candidates Night\, scheduled this year for 4/13/2023 at 6PM ET via Zoom. \n**All candidates are required to attend.** \nRegister to attend HERE!
URL:https://philambdasigma.org/event/2023-pls-meet-the-candidates-night/
LOCATION:Zoom
CATEGORIES:Meet the Candidates Night
ATTACH;FMTTYPE=image/png:https://philambdasigma.org/wp-content/uploads/2022/02/Untitled-design-18.png
END:VEVENT
END:VCALENDAR