BEGIN:VCALENDAR
VERSION:2.0
PRODID:-//Phi Lambda Sigma - ECPv6.15.20//NONSGML v1.0//EN
CALSCALE:GREGORIAN
METHOD:PUBLISH
X-ORIGINAL-URL:https://philambdasigma.org
X-WR-CALDESC:Events for Phi Lambda Sigma
REFRESH-INTERVAL;VALUE=DURATION:PT1H
X-Robots-Tag:noindex
X-PUBLISHED-TTL:PT1H
BEGIN:VTIMEZONE
TZID:America/New_York
BEGIN:DAYLIGHT
TZOFFSETFROM:-0500
TZOFFSETTO:-0400
TZNAME:EDT
DTSTART:20220313T070000
END:DAYLIGHT
BEGIN:STANDARD
TZOFFSETFROM:-0400
TZOFFSETTO:-0500
TZNAME:EST
DTSTART:20221106T060000
END:STANDARD
BEGIN:DAYLIGHT
TZOFFSETFROM:-0500
TZOFFSETTO:-0400
TZNAME:EDT
DTSTART:20230312T070000
END:DAYLIGHT
BEGIN:STANDARD
TZOFFSETFROM:-0400
TZOFFSETTO:-0500
TZNAME:EST
DTSTART:20231105T060000
END:STANDARD
BEGIN:DAYLIGHT
TZOFFSETFROM:-0500
TZOFFSETTO:-0400
TZNAME:EDT
DTSTART:20240310T070000
END:DAYLIGHT
BEGIN:STANDARD
TZOFFSETFROM:-0400
TZOFFSETTO:-0500
TZNAME:EST
DTSTART:20241103T060000
END:STANDARD
BEGIN:DAYLIGHT
TZOFFSETFROM:-0500
TZOFFSETTO:-0400
TZNAME:EDT
DTSTART:20250309T070000
END:DAYLIGHT
BEGIN:STANDARD
TZOFFSETFROM:-0400
TZOFFSETTO:-0500
TZNAME:EST
DTSTART:20251102T060000
END:STANDARD
END:VTIMEZONE
BEGIN:VEVENT
DTSTART;TZID=America/New_York:20241016T203000
DTEND;TZID=America/New_York:20241016T210000
DTSTAMP:20260423T150630
CREATED:20240929T202927Z
LAST-MODIFIED:20241004T101623Z
UID:91368-1729110600-1729112400@philambdasigma.org
SUMMARY:Leadership Challenge Office Hours
DESCRIPTION:Join PLS as we host Office Hours for the Leadership Challenge. Drop in to ask questions and help prepare your Chapter’s Leadership Challenge!
URL:https://philambdasigma.org/event/leadership-challenge-office-hours-2/
LOCATION:Zoom
CATEGORIES:Annual Leadership Challenge
ORGANIZER;CN="Hoai-An Truong":MAILTO:hoai-an@philambdasigma.org
END:VEVENT
BEGIN:VEVENT
DTSTART;TZID=America/New_York:20241010T203000
DTEND;TZID=America/New_York:20241010T213000
DTSTAMP:20260423T150630
CREATED:20240929T202727Z
LAST-MODIFIED:20241004T101509Z
UID:91366-1728592200-1728595800@philambdasigma.org
SUMMARY:Leadership Challenge Office Hours
DESCRIPTION:Join PLS as we host Office Hours for the Leadership Challenge. Drop in to ask questions and help prepare your Chapter’s Leadership Challenge!
URL:https://philambdasigma.org/event/leadership-challenge-office-hours/
LOCATION:Zoom
CATEGORIES:Annual Leadership Challenge
ORGANIZER;CN="Hoai-An Truong":MAILTO:hoai-an@philambdasigma.org
END:VEVENT
BEGIN:VEVENT
DTSTART;TZID=America/New_York:20230131T235900
DTEND;TZID=America/New_York:20230131T235900
DTSTAMP:20260423T150630
CREATED:20220210T003957Z
LAST-MODIFIED:20220917T180321Z
UID:1468-1675209540-1675209540@philambdasigma.org
SUMMARY:Deadline: PLS Leadership Challenge
DESCRIPTION:Submissions for the 2022-2023 Charles Thomas Leadership Challenge are due January 31st at @ 11:59pm PST annually. For more information on this award and to submit your application today\, please visit the Annual Leadership Challenge page on our website.
URL:https://philambdasigma.org/event/deadline-charles-thomas-leadership-challenge/
CATEGORIES:Annual Leadership Challenge,Awards Deadlines
ATTACH;FMTTYPE=image/png:https://philambdasigma.org/wp-content/uploads/2022/02/Untitled-design-18.png
END:VEVENT
END:VCALENDAR