BEGIN:VCALENDAR
VERSION:2.0
PRODID:-//Phi Lambda Sigma - ECPv6.15.20//NONSGML v1.0//EN
CALSCALE:GREGORIAN
METHOD:PUBLISH
X-ORIGINAL-URL:https://philambdasigma.org
X-WR-CALDESC:Events for Phi Lambda Sigma
REFRESH-INTERVAL;VALUE=DURATION:PT1H
X-Robots-Tag:noindex
X-PUBLISHED-TTL:PT1H
BEGIN:VTIMEZONE
TZID:America/New_York
BEGIN:DAYLIGHT
TZOFFSETFROM:-0500
TZOFFSETTO:-0400
TZNAME:EDT
DTSTART:20210314T070000
END:DAYLIGHT
BEGIN:STANDARD
TZOFFSETFROM:-0400
TZOFFSETTO:-0500
TZNAME:EST
DTSTART:20211107T060000
END:STANDARD
BEGIN:DAYLIGHT
TZOFFSETFROM:-0500
TZOFFSETTO:-0400
TZNAME:EDT
DTSTART:20220313T070000
END:DAYLIGHT
BEGIN:STANDARD
TZOFFSETFROM:-0400
TZOFFSETTO:-0500
TZNAME:EST
DTSTART:20221106T060000
END:STANDARD
BEGIN:DAYLIGHT
TZOFFSETFROM:-0500
TZOFFSETTO:-0400
TZNAME:EDT
DTSTART:20230312T070000
END:DAYLIGHT
BEGIN:STANDARD
TZOFFSETFROM:-0400
TZOFFSETTO:-0500
TZNAME:EST
DTSTART:20231105T060000
END:STANDARD
END:VTIMEZONE
BEGIN:VEVENT
DTSTART;TZID=America/New_York:20221129T200000
DTEND;TZID=America/New_York:20221129T213000
DTSTAMP:20260423T114804
CREATED:20220206T014039Z
LAST-MODIFIED:20221020T021534Z
UID:1079-1669752000-1669757400@philambdasigma.org
SUMMARY:GiANT Resiliency Tools with Anthony DeClue\, PharmD
DESCRIPTION:GiANT Resiliency Tools Session 2
URL:https://philambdasigma.org/event/giant-resiliency-tools-with-anthony-declue-pharmd/
LOCATION:Zoom
CATEGORIES:GiANT Sessions
ATTACH;FMTTYPE=image/png:https://philambdasigma.org/wp-content/uploads/2022/02/2.png
END:VEVENT
BEGIN:VEVENT
DTSTART;TZID=America/New_York:20221025T200000
DTEND;TZID=America/New_York:20221025T213000
DTSTAMP:20260423T114804
CREATED:20220206T013852Z
LAST-MODIFIED:20221019T143550Z
UID:1077-1666728000-1666733400@philambdasigma.org
SUMMARY:GiANT 5 Gears with Mary Euler\, PharmD\, FAPhA
DESCRIPTION:GiANT 5 Gears Session 2 \n\n\nLength: 1 hr\n\n\nFocus: Working to improve time management\n\n\nGoal: Helps to build resiliency among teams and individuals
URL:https://philambdasigma.org/event/giant-5-gears-with-mary-euler-pharmd-fapha/
LOCATION:Zoom
CATEGORIES:GiANT Sessions
ATTACH;FMTTYPE=image/png:https://philambdasigma.org/wp-content/uploads/2022/02/4-1.png
END:VEVENT
BEGIN:VEVENT
DTSTART;TZID=America/New_York:20220927T200000
DTEND;TZID=America/New_York:20220927T213000
DTSTAMP:20260423T114804
CREATED:20220206T013725Z
LAST-MODIFIED:20220906T235746Z
UID:1074-1664308800-1664314200@philambdasigma.org
SUMMARY:GiANT 5 Voices with Anthony DeClue\, PharmD
DESCRIPTION:GiANT 5 Voices Session 4 \n\n\nLength: 1.5 hrs\n\n\nFocus: Understanding your personality and how you and your teammates are “wired”\n\n\nGoal: Leads to more effective communication
URL:https://philambdasigma.org/event/giant-5-voices-with-anthony-declue-pharmd/
LOCATION:Zoom
CATEGORIES:GiANT Sessions
ATTACH;FMTTYPE=image/png:https://philambdasigma.org/wp-content/uploads/2022/02/2.png
END:VEVENT
BEGIN:VEVENT
DTSTART;TZID=America/New_York:20220524T200000
DTEND;TZID=America/New_York:20220524T213000
DTSTAMP:20260423T114804
CREATED:20220206T013523Z
LAST-MODIFIED:20220517T030442Z
UID:1071-1653422400-1653427800@philambdasigma.org
SUMMARY:GiANT 5 Voices with Jaclyn Cole\, PharmD\, BCPS
DESCRIPTION:GiANT 5 Voices Session 3 \n\n\nLength: 1.5 hrs\n\n\nFocus: Understanding your personality and how you and your teammates are “wired”\n\n\nGoal: Leads to more effective communication\n\n\n  \nClick “Register Now” to the right  to sign-up TODAY!
URL:https://philambdasigma.org/event/giant-5-voices-with-jaclyn-cole-pharmd-bcps/
LOCATION:Zoom
CATEGORIES:GiANT Sessions
ATTACH;FMTTYPE=image/png:https://philambdasigma.org/wp-content/uploads/2022/02/3-1.png
END:VEVENT
BEGIN:VEVENT
DTSTART;TZID=America/New_York:20220426T200000
DTEND;TZID=America/New_York:20220426T213000
DTSTAMP:20260423T114804
CREATED:20220206T013258Z
LAST-MODIFIED:20220425T171253Z
UID:1068-1651003200-1651008600@philambdasigma.org
SUMMARY:GiANT Resiliency Tools with Jaclyn Cole\, PharmD\, BCPS
DESCRIPTION:GiANT Resiliency Tools Session 1
URL:https://philambdasigma.org/event/resiliency-tools-with-jaclyn-cole-pharmd-bcps/
LOCATION:Zoom
CATEGORIES:GiANT Sessions
ATTACH;FMTTYPE=image/png:https://philambdasigma.org/wp-content/uploads/2022/02/3-1.png
END:VEVENT
BEGIN:VEVENT
DTSTART;TZID=America/New_York:20220329T160000
DTEND;TZID=America/New_York:20220329T173000
DTSTAMP:20260423T114804
CREATED:20220206T011915Z
LAST-MODIFIED:20220311T024555Z
UID:1059-1648569600-1648575000@philambdasigma.org
SUMMARY:GiANT 5 Gears Session with Mary Euler\, PharmD\, FAPhA
DESCRIPTION:GiANT 5 Gears Session 1 \n\n\nLength: 1 hr\n\n\nFocus: Working to improve time management\n\n\nGoal: Helps to build resiliency among teams and individuals
URL:https://philambdasigma.org/event/giant-5-gears-session-with-mary-euler-pharmd-fapha/
LOCATION:Zoom
CATEGORIES:GiANT Sessions
ATTACH;FMTTYPE=image/png:https://philambdasigma.org/wp-content/uploads/2022/02/4-1.png
END:VEVENT
BEGIN:VEVENT
DTSTART;TZID=America/New_York:20220222T200000
DTEND;TZID=America/New_York:20220222T210000
DTSTAMP:20260423T114804
CREATED:20211223T063651Z
LAST-MODIFIED:20220208T221606Z
UID:812-1645560000-1645563600@philambdasigma.org
SUMMARY:GiANT 5 Voices Session with Brandon Jennings\, PharmD\, BCACP
DESCRIPTION:GiANT 5 Voices Session 2 \n\n\nLength: 1.5 hrs\n\n\nFocus: Understanding your personality and how you and your teammates are “wired”\n\n\nGoal: Leads to more effective communication
URL:https://philambdasigma.org/event/giant-5-voices-session-with-brandon-jennings-pharmd-bcacp/
LOCATION:Zoom
CATEGORIES:GiANT Sessions
ATTACH;FMTTYPE=image/png:https://philambdasigma.org/wp-content/uploads/2022/02/1-1.png
ORGANIZER;CN="Brandon Jennings":MAILTO:brandon@philambdasigma.org
END:VEVENT
BEGIN:VEVENT
DTSTART;TZID=America/New_York:20220125T200000
DTEND;TZID=America/New_York:20220125T210000
DTSTAMP:20260423T114804
CREATED:20211223T062504Z
LAST-MODIFIED:20220208T221713Z
UID:799-1643140800-1643144400@philambdasigma.org
SUMMARY:5 Voices – GiANT Session With Brandon Jennings\, PharmD\, BCACP
DESCRIPTION:GiANT Session 5 Voices 1 \n\n\nLength: 1.5 hrs\n\n\nFocus: Understanding your personality and how you and your teammates are “wired”\n\n\nGoal: Leads to more effective communication
URL:https://philambdasigma.org/event/5-voices-giant-session-with-brandon-jennings-pharmd-bcacp/
LOCATION:Zoom
CATEGORIES:GiANT Sessions
ATTACH;FMTTYPE=image/png:https://philambdasigma.org/wp-content/uploads/2022/02/1-1.png
ORGANIZER;CN="Brandon Jennings":MAILTO:brandon@philambdasigma.org
END:VEVENT
END:VCALENDAR