BEGIN:VCALENDAR
VERSION:2.0
PRODID:-//Phi Lambda Sigma - ECPv6.15.20//NONSGML v1.0//EN
CALSCALE:GREGORIAN
METHOD:PUBLISH
X-WR-CALNAME:Phi Lambda Sigma
X-ORIGINAL-URL:https://philambdasigma.org
X-WR-CALDESC:Events for Phi Lambda Sigma
REFRESH-INTERVAL;VALUE=DURATION:PT1H
X-Robots-Tag:noindex
X-PUBLISHED-TTL:PT1H
BEGIN:VTIMEZONE
TZID:America/New_York
BEGIN:DAYLIGHT
TZOFFSETFROM:-0500
TZOFFSETTO:-0400
TZNAME:EDT
DTSTART:20210314T070000
END:DAYLIGHT
BEGIN:STANDARD
TZOFFSETFROM:-0400
TZOFFSETTO:-0500
TZNAME:EST
DTSTART:20211107T060000
END:STANDARD
BEGIN:DAYLIGHT
TZOFFSETFROM:-0500
TZOFFSETTO:-0400
TZNAME:EDT
DTSTART:20220313T070000
END:DAYLIGHT
BEGIN:STANDARD
TZOFFSETFROM:-0400
TZOFFSETTO:-0500
TZNAME:EST
DTSTART:20221106T060000
END:STANDARD
BEGIN:DAYLIGHT
TZOFFSETFROM:-0500
TZOFFSETTO:-0400
TZNAME:EDT
DTSTART:20230312T070000
END:DAYLIGHT
BEGIN:STANDARD
TZOFFSETFROM:-0400
TZOFFSETTO:-0500
TZNAME:EST
DTSTART:20231105T060000
END:STANDARD
END:VTIMEZONE
BEGIN:VEVENT
DTSTART;TZID=America/New_York:20220318T040000
DTEND;TZID=America/New_York:20220321T130000
DTSTAMP:20260423T113838
CREATED:20220309T041235Z
LAST-MODIFIED:20220309T041235Z
UID:1839-1647576000-1647867600@philambdasigma.org
SUMMARY:PLS at APhA Annual
DESCRIPTION:PLS will have a table at the APhA Annual Meeting & Exposition in San Antonio\, TX. Be sure to stop by our table at the Expo! \nYou can also check out our virtual booth!
URL:https://philambdasigma.org/event/pls-at-apha-annual/
LOCATION:San Antonio\, TX\, San Antonio\, TX\, United States
CATEGORIES:Conferences
ATTACH;FMTTYPE=image/jpeg:https://philambdasigma.org/wp-content/uploads/2022/03/San-Antonio.jpeg
END:VEVENT
END:VCALENDAR