BEGIN:VCALENDAR
VERSION:2.0
PRODID:-//Phi Lambda Sigma - ECPv6.15.20//NONSGML v1.0//EN
CALSCALE:GREGORIAN
METHOD:PUBLISH
X-WR-CALNAME:Phi Lambda Sigma
X-ORIGINAL-URL:https://philambdasigma.org
X-WR-CALDESC:Events for Phi Lambda Sigma
REFRESH-INTERVAL;VALUE=DURATION:PT1H
X-Robots-Tag:noindex
X-PUBLISHED-TTL:PT1H
BEGIN:VTIMEZONE
TZID:America/New_York
BEGIN:DAYLIGHT
TZOFFSETFROM:-0500
TZOFFSETTO:-0400
TZNAME:EDT
DTSTART:20240310T070000
END:DAYLIGHT
BEGIN:STANDARD
TZOFFSETFROM:-0400
TZOFFSETTO:-0500
TZNAME:EST
DTSTART:20241103T060000
END:STANDARD
BEGIN:DAYLIGHT
TZOFFSETFROM:-0500
TZOFFSETTO:-0400
TZNAME:EDT
DTSTART:20250309T070000
END:DAYLIGHT
BEGIN:STANDARD
TZOFFSETFROM:-0400
TZOFFSETTO:-0500
TZNAME:EST
DTSTART:20251102T060000
END:STANDARD
BEGIN:DAYLIGHT
TZOFFSETFROM:-0500
TZOFFSETTO:-0400
TZNAME:EDT
DTSTART:20260308T070000
END:DAYLIGHT
BEGIN:STANDARD
TZOFFSETFROM:-0400
TZOFFSETTO:-0500
TZNAME:EST
DTSTART:20261101T060000
END:STANDARD
END:VTIMEZONE
BEGIN:VEVENT
DTSTART;TZID=America/New_York:20250323T180000
DTEND;TZID=America/New_York:20250323T200000
DTSTAMP:20260423T131206
CREATED:20250128T121554Z
LAST-MODIFIED:20250228T214550Z
UID:91665-1742752800-1742760000@philambdasigma.org
SUMMARY:PLS/ Rho Chi APhA Reception Sign-Up
DESCRIPTION:Rho Chi and Phi Lambda Sigma are excited to co-host a reception at APhA on Sunday March 23rd\, 2025\nWe are limited to 250 attendees\, so please grab a spot by entering your information below!\n\n\n\n\nIf you sign up and are unable to attend\, please email Julie Seeger\, Rho Chi National Office Program Manager\, at rhochisociety@umich.edu to remove your name from the list. Thank you! \n\nOther questions can be directed to Katherine Riddle at katherine@philambdasigma.org.
URL:https://philambdasigma.org/event/pls-rho-chi-apha-reception-sign-up/
LOCATION:Liberty Common\, 207 1st Avenue South\, Nashville\, TN\, 37201\, United States
ATTACH;FMTTYPE=image/png:https://philambdasigma.org/wp-content/uploads/2022/02/Untitled-design-17.png
END:VEVENT
END:VCALENDAR