BEGIN:VCALENDAR
VERSION:2.0
PRODID:-//Phi Lambda Sigma - ECPv6.15.20//NONSGML v1.0//EN
CALSCALE:GREGORIAN
METHOD:PUBLISH
X-WR-CALNAME:Phi Lambda Sigma
X-ORIGINAL-URL:https://philambdasigma.org
X-WR-CALDESC:Events for Phi Lambda Sigma
REFRESH-INTERVAL;VALUE=DURATION:PT1H
X-Robots-Tag:noindex
X-PUBLISHED-TTL:PT1H
BEGIN:VTIMEZONE
TZID:America/New_York
BEGIN:DAYLIGHT
TZOFFSETFROM:-0500
TZOFFSETTO:-0400
TZNAME:EDT
DTSTART:20210314T070000
END:DAYLIGHT
BEGIN:STANDARD
TZOFFSETFROM:-0400
TZOFFSETTO:-0500
TZNAME:EST
DTSTART:20211107T060000
END:STANDARD
BEGIN:DAYLIGHT
TZOFFSETFROM:-0500
TZOFFSETTO:-0400
TZNAME:EDT
DTSTART:20220313T070000
END:DAYLIGHT
BEGIN:STANDARD
TZOFFSETFROM:-0400
TZOFFSETTO:-0500
TZNAME:EST
DTSTART:20221106T060000
END:STANDARD
BEGIN:DAYLIGHT
TZOFFSETFROM:-0500
TZOFFSETTO:-0400
TZNAME:EDT
DTSTART:20230312T070000
END:DAYLIGHT
BEGIN:STANDARD
TZOFFSETFROM:-0400
TZOFFSETTO:-0500
TZNAME:EST
DTSTART:20231105T060000
END:STANDARD
END:VTIMEZONE
BEGIN:VEVENT
DTSTART;TZID=America/New_York:20220421T023000
DTEND;TZID=America/New_York:20220421T160000
DTSTAMP:20260423T070354
CREATED:20220408T002624Z
LAST-MODIFIED:20220408T002734Z
UID:2336-1650508200-1650556800@philambdasigma.org
SUMMARY:Meet The 2022-2023 Candidates for The National Executive Committee
DESCRIPTION:The 2022-2023 National Executive Committee will be elected during the House of Delegates session on April 23rd\, 2022 from 2-5PM ET. Only 1 delegate from each collegiate chapter will be able to vote during the session. \nWe will be hosting a Meet The Candidates Session where Chapter Delegates and PLS members can get to know a little more about each candidate. You can register for this session by clicking on the event below. \nMore information about the candidates can be found by clicking HERE. Please register for this event at the attached link.
URL:https://philambdasigma.org/event/meet-the-2022-2023-candidates-for-the-national-executive-committee/
LOCATION:Zoom
CATEGORIES:House of Delegates
ATTACH;FMTTYPE=image/png:https://philambdasigma.org/wp-content/uploads/2022/02/Untitled-design-17.png
ORGANIZER;CN="Brandon Jennings":MAILTO:brandon@philambdasigma.org
END:VEVENT
END:VCALENDAR