BEGIN:VCALENDAR
VERSION:2.0
PRODID:-//Phi Lambda Sigma - ECPv6.15.20//NONSGML v1.0//EN
CALSCALE:GREGORIAN
METHOD:PUBLISH
X-WR-CALNAME:Phi Lambda Sigma
X-ORIGINAL-URL:https://philambdasigma.org
X-WR-CALDESC:Events for Phi Lambda Sigma
REFRESH-INTERVAL;VALUE=DURATION:PT1H
X-Robots-Tag:noindex
X-PUBLISHED-TTL:PT1H
BEGIN:VTIMEZONE
TZID:America/New_York
BEGIN:DAYLIGHT
TZOFFSETFROM:-0500
TZOFFSETTO:-0400
TZNAME:EDT
DTSTART:20240310T070000
END:DAYLIGHT
BEGIN:STANDARD
TZOFFSETFROM:-0400
TZOFFSETTO:-0500
TZNAME:EST
DTSTART:20241103T060000
END:STANDARD
BEGIN:DAYLIGHT
TZOFFSETFROM:-0500
TZOFFSETTO:-0400
TZNAME:EDT
DTSTART:20250309T070000
END:DAYLIGHT
BEGIN:STANDARD
TZOFFSETFROM:-0400
TZOFFSETTO:-0500
TZNAME:EST
DTSTART:20251102T060000
END:STANDARD
BEGIN:DAYLIGHT
TZOFFSETFROM:-0500
TZOFFSETTO:-0400
TZNAME:EDT
DTSTART:20260308T070000
END:DAYLIGHT
BEGIN:STANDARD
TZOFFSETFROM:-0400
TZOFFSETTO:-0500
TZNAME:EST
DTSTART:20261101T060000
END:STANDARD
END:VTIMEZONE
BEGIN:VEVENT
DTSTART;TZID=America/New_York:20250429T200000
DTEND;TZID=America/New_York:20250429T213000
DTSTAMP:20260423T113117
CREATED:20250417T193935Z
LAST-MODIFIED:20250417T193935Z
UID:92092-1745956800-1745962200@philambdasigma.org
SUMMARY:GiANT Workshop with Dr. Jennings - Accelerating Autonomy
DESCRIPTION:Join us as we close out another impactful year of our free GiANT leadership curriculum! \nWe invite you to join facilitator Dr. Brandon Jennings on Tuesday\, April 29th from 8:00 to 9:00 PM ET as he leads a session on ‘Accelerating Autonomy.’ Learn how to develop others and avoid the ‘pit of despair’ in your team. \nThis is open to all professional and collegiate members. Reserve the spot on your calendar by registering with the link provided.
URL:https://philambdasigma.org/event/giant-workshop-with-dr-jennings-accelerating-autonomy/
LOCATION:Zoom
CATEGORIES:GiANT Sessions
ATTACH;FMTTYPE=image/jpeg:https://philambdasigma.org/wp-content/uploads/2025/04/IMG_1309.jpg
END:VEVENT
END:VCALENDAR