BEGIN:VCALENDAR
VERSION:2.0
PRODID:-//Phi Lambda Sigma - ECPv6.15.20//NONSGML v1.0//EN
CALSCALE:GREGORIAN
METHOD:PUBLISH
X-WR-CALNAME:Phi Lambda Sigma
X-ORIGINAL-URL:https://philambdasigma.org
X-WR-CALDESC:Events for Phi Lambda Sigma
REFRESH-INTERVAL;VALUE=DURATION:PT1H
X-Robots-Tag:noindex
X-PUBLISHED-TTL:PT1H
BEGIN:VTIMEZONE
TZID:America/New_York
BEGIN:DAYLIGHT
TZOFFSETFROM:-0500
TZOFFSETTO:-0400
TZNAME:EDT
DTSTART:20210314T070000
END:DAYLIGHT
BEGIN:STANDARD
TZOFFSETFROM:-0400
TZOFFSETTO:-0500
TZNAME:EST
DTSTART:20211107T060000
END:STANDARD
BEGIN:DAYLIGHT
TZOFFSETFROM:-0500
TZOFFSETTO:-0400
TZNAME:EDT
DTSTART:20220313T070000
END:DAYLIGHT
BEGIN:STANDARD
TZOFFSETFROM:-0400
TZOFFSETTO:-0500
TZNAME:EST
DTSTART:20221106T060000
END:STANDARD
BEGIN:DAYLIGHT
TZOFFSETFROM:-0500
TZOFFSETTO:-0400
TZNAME:EDT
DTSTART:20230312T070000
END:DAYLIGHT
BEGIN:STANDARD
TZOFFSETFROM:-0400
TZOFFSETTO:-0500
TZNAME:EST
DTSTART:20231105T060000
END:STANDARD
END:VTIMEZONE
BEGIN:VEVENT
DTSTART;TZID=America/New_York:20220608T103000
DTEND;TZID=America/New_York:20220608T113000
DTSTAMP:20260423T160040
CREATED:20220428T205853Z
LAST-MODIFIED:20220607T025346Z
UID:2653-1654684200-1654687800@philambdasigma.org
SUMMARY:Chapter Innovation Poster Sessions
DESCRIPTION:All chapters are invited to submit an abstract for the Chapter Innovation Poster Sessions that will take place on Wednesday June 8th\, 2022 from 10:30 AM – 11:30 AM Eastern Time during the 2022 PLS Leadership Summit. \nAt least one presenter must be registered for the Summit and be available during the virtual 10:30 AM – 11:30 AM ET hour dedicated to Poster Session Q&A. \nVisit philambdasigma.org/postersession for more information. Click “register now” to submit your abstract.
URL:https://philambdasigma.org/event/chapter-innovation-poster-sessions/
LOCATION:Zoom
CATEGORIES:Chapter Innovation Poster Session,summit
ATTACH;FMTTYPE=image/png:https://philambdasigma.org/wp-content/uploads/2022/02/Untitled-design-18.png
END:VEVENT
END:VCALENDAR