BEGIN:VCALENDAR
VERSION:2.0
PRODID:-//Phi Lambda Sigma - ECPv6.15.20//NONSGML v1.0//EN
CALSCALE:GREGORIAN
METHOD:PUBLISH
X-WR-CALNAME:Phi Lambda Sigma
X-ORIGINAL-URL:https://philambdasigma.org
X-WR-CALDESC:Events for Phi Lambda Sigma
REFRESH-INTERVAL;VALUE=DURATION:PT1H
X-Robots-Tag:noindex
X-PUBLISHED-TTL:PT1H
BEGIN:VTIMEZONE
TZID:America/New_York
BEGIN:DAYLIGHT
TZOFFSETFROM:-0500
TZOFFSETTO:-0400
TZNAME:EDT
DTSTART:20240310T070000
END:DAYLIGHT
BEGIN:STANDARD
TZOFFSETFROM:-0400
TZOFFSETTO:-0500
TZNAME:EST
DTSTART:20241103T060000
END:STANDARD
BEGIN:DAYLIGHT
TZOFFSETFROM:-0500
TZOFFSETTO:-0400
TZNAME:EDT
DTSTART:20250309T070000
END:DAYLIGHT
BEGIN:STANDARD
TZOFFSETFROM:-0400
TZOFFSETTO:-0500
TZNAME:EST
DTSTART:20251102T060000
END:STANDARD
BEGIN:DAYLIGHT
TZOFFSETFROM:-0500
TZOFFSETTO:-0400
TZNAME:EDT
DTSTART:20260308T070000
END:DAYLIGHT
BEGIN:STANDARD
TZOFFSETFROM:-0400
TZOFFSETTO:-0500
TZNAME:EST
DTSTART:20261101T060000
END:STANDARD
END:VTIMEZONE
BEGIN:VEVENT
DTSTART;VALUE=DATE:20250925
DTEND;VALUE=DATE:20250927
DTSTAMP:20260424T100053
CREATED:20250627T134723Z
LAST-MODIFIED:20250627T134723Z
UID:92417-1758758400-1758931199@philambdasigma.org
SUMMARY:2025 PLS Leadership Summit
DESCRIPTION:PLS is excited to host our 5th Annual virtual Leadership Summit: Leading Beyond Boundaries! \nThis event is designed to inspire and equip pharmacy leaders at all stages of their professional journey. Collegiate members will have the opportunity to earn a Certificate in Global Leadership. Professional members can earn up to 5 hours of accredited continuing education (CE). Join us for inspiring sessions\, dynamic speakers\, and practical takeaways to elevate your leadership journey! \nDetails on registration and the full agenda will be announced soon.
URL:https://philambdasigma.org/event/2025-pls-leadership-summit/
LOCATION:Zoom
CATEGORIES:Leadership Summit
ATTACH;FMTTYPE=image/png:https://philambdasigma.org/wp-content/uploads/2025/06/Leadership-Summit-2025-Save-the-Date.png
END:VEVENT
END:VCALENDAR