BEGIN:VCALENDAR
VERSION:2.0
PRODID:-//Phi Lambda Sigma - ECPv6.15.20//NONSGML v1.0//EN
CALSCALE:GREGORIAN
METHOD:PUBLISH
X-WR-CALNAME:Phi Lambda Sigma
X-ORIGINAL-URL:https://philambdasigma.org
X-WR-CALDESC:Events for Phi Lambda Sigma
REFRESH-INTERVAL;VALUE=DURATION:PT1H
X-Robots-Tag:noindex
X-PUBLISHED-TTL:PT1H
BEGIN:VTIMEZONE
TZID:America/New_York
BEGIN:DAYLIGHT
TZOFFSETFROM:-0500
TZOFFSETTO:-0400
TZNAME:EDT
DTSTART:20220313T070000
END:DAYLIGHT
BEGIN:STANDARD
TZOFFSETFROM:-0400
TZOFFSETTO:-0500
TZNAME:EST
DTSTART:20221106T060000
END:STANDARD
BEGIN:DAYLIGHT
TZOFFSETFROM:-0500
TZOFFSETTO:-0400
TZNAME:EDT
DTSTART:20230312T070000
END:DAYLIGHT
BEGIN:STANDARD
TZOFFSETFROM:-0400
TZOFFSETTO:-0500
TZNAME:EST
DTSTART:20231105T060000
END:STANDARD
BEGIN:DAYLIGHT
TZOFFSETFROM:-0500
TZOFFSETTO:-0400
TZNAME:EDT
DTSTART:20240310T070000
END:DAYLIGHT
BEGIN:STANDARD
TZOFFSETFROM:-0400
TZOFFSETTO:-0500
TZNAME:EST
DTSTART:20241103T060000
END:STANDARD
END:VTIMEZONE
BEGIN:VEVENT
DTSTART;VALUE=DATE:20230501
DTEND;VALUE=DATE:20230520
DTSTAMP:20260423T131205
CREATED:20230508T163152Z
LAST-MODIFIED:20230508T164547Z
UID:88343-1682899200-1684540799@philambdasigma.org
SUMMARY:2023 Chapter Innovation Poster Session: Call for Abstracts
DESCRIPTION:Chapters are invited to submit an abstract for the Chapter Innovation Poster Sessions that will be held on Friday\, June 16th\, 2023 from 6-7 PM ET\, during this year’s 2023 PLS Leadership Summit: Building the Leader! \nAbstracts are DUE: May 19th\, 2023 at 11:59pm ET \nSubmitters will receive notice of abstract approval by May 29th\, 2023. Finalized posters & recorded presentations are due Friday June 9th\, 2023 at 11:59pm ET. \nFor more information regarding abstraction requirements\, how to submit\, and examples of previous submissions visit our website HERE!\nAbstract ready to go? Submit HERE today!
URL:https://philambdasigma.org/event/2023-chapter-innovation-poster-session-call-for-abstracts/
CATEGORIES:Chapter Innovation Poster Session,Leadership Summit
ATTACH;FMTTYPE=image/png:https://philambdasigma.org/wp-content/uploads/2023/05/Call-for-Abstracts-1.png
END:VEVENT
END:VCALENDAR