BEGIN:VCALENDAR
VERSION:2.0
PRODID:-//Phi Lambda Sigma - ECPv6.15.20//NONSGML v1.0//EN
CALSCALE:GREGORIAN
METHOD:PUBLISH
X-WR-CALNAME:Phi Lambda Sigma
X-ORIGINAL-URL:https://philambdasigma.org
X-WR-CALDESC:Events for Phi Lambda Sigma
REFRESH-INTERVAL;VALUE=DURATION:PT1H
X-Robots-Tag:noindex
X-PUBLISHED-TTL:PT1H
BEGIN:VTIMEZONE
TZID:America/New_York
BEGIN:DAYLIGHT
TZOFFSETFROM:-0500
TZOFFSETTO:-0400
TZNAME:EDT
DTSTART:20210314T070000
END:DAYLIGHT
BEGIN:STANDARD
TZOFFSETFROM:-0400
TZOFFSETTO:-0500
TZNAME:EST
DTSTART:20211107T060000
END:STANDARD
BEGIN:DAYLIGHT
TZOFFSETFROM:-0500
TZOFFSETTO:-0400
TZNAME:EDT
DTSTART:20220313T070000
END:DAYLIGHT
BEGIN:STANDARD
TZOFFSETFROM:-0400
TZOFFSETTO:-0500
TZNAME:EST
DTSTART:20221106T060000
END:STANDARD
BEGIN:DAYLIGHT
TZOFFSETFROM:-0500
TZOFFSETTO:-0400
TZNAME:EDT
DTSTART:20230312T070000
END:DAYLIGHT
BEGIN:STANDARD
TZOFFSETFROM:-0400
TZOFFSETTO:-0500
TZNAME:EST
DTSTART:20231105T060000
END:STANDARD
END:VTIMEZONE
BEGIN:VEVENT
DTSTART;TZID=America/New_York:20220423T100000
DTEND;TZID=America/New_York:20220423T130000
DTSTAMP:20260423T083454
CREATED:20220404T180534Z
LAST-MODIFIED:20220404T181424Z
UID:2206-1650708000-1650718800@philambdasigma.org
SUMMARY:2022 PLS House of Delegates
DESCRIPTION:The House of Delegates will be hosted virtually on Saturday\, April 23\, 2022\, from 2 – 5 pm EST\, then followed by the PLS Award Ceremony from 5 – 6:30 pm EST. Registration is free and each chapter is required to register one delegate and one alternate in case the main delegate is unable to attend. \nChapter presidents and advisors should have received an email that contains information on how to register a delegate and alternate. The deadline to register is Saturday 4/9 @ 11:59pm PST. If you did not receive an email\, please reach out to Brandon Jennings (brandon@philambdasigma.org)  or Lamees Loubani (lamees@philambdasigma.org).  \nAll non-delegates who are interested in attending the House of Delegates may do so by watching the Livestream of the session via Youtube. This link will be shared on our social media channels and through email prior to the session.
URL:https://philambdasigma.org/event/2022-pls-house-of-delegates/
CATEGORIES:House of Delegates
ATTACH;FMTTYPE=image/png:https://philambdasigma.org/wp-content/uploads/2022/02/Untitled-design-18.png
END:VEVENT
END:VCALENDAR