BEGIN:VCALENDAR
VERSION:2.0
PRODID:-//Phi Lambda Sigma - ECPv6.15.20//NONSGML v1.0//EN
CALSCALE:GREGORIAN
METHOD:PUBLISH
X-WR-CALNAME:Phi Lambda Sigma
X-ORIGINAL-URL:https://philambdasigma.org
X-WR-CALDESC:Events for Phi Lambda Sigma
REFRESH-INTERVAL;VALUE=DURATION:PT1H
X-Robots-Tag:noindex
X-PUBLISHED-TTL:PT1H
BEGIN:VTIMEZONE
TZID:America/New_York
BEGIN:DAYLIGHT
TZOFFSETFROM:-0500
TZOFFSETTO:-0400
TZNAME:EDT
DTSTART:20210314T070000
END:DAYLIGHT
BEGIN:STANDARD
TZOFFSETFROM:-0400
TZOFFSETTO:-0500
TZNAME:EST
DTSTART:20211107T060000
END:STANDARD
BEGIN:DAYLIGHT
TZOFFSETFROM:-0500
TZOFFSETTO:-0400
TZNAME:EDT
DTSTART:20220313T070000
END:DAYLIGHT
BEGIN:STANDARD
TZOFFSETFROM:-0400
TZOFFSETTO:-0500
TZNAME:EST
DTSTART:20221106T060000
END:STANDARD
BEGIN:DAYLIGHT
TZOFFSETFROM:-0500
TZOFFSETTO:-0400
TZNAME:EDT
DTSTART:20230312T070000
END:DAYLIGHT
BEGIN:STANDARD
TZOFFSETFROM:-0400
TZOFFSETTO:-0500
TZNAME:EST
DTSTART:20231105T060000
END:STANDARD
END:VTIMEZONE
BEGIN:VEVENT
DTSTART;TZID=America/New_York:20220606T080000
DTEND;TZID=America/New_York:20220608T210000
DTSTAMP:20260423T132252
CREATED:20220411T200819Z
LAST-MODIFIED:20220428T194631Z
UID:2387-1654502400-1654722000@philambdasigma.org
SUMMARY:2022 Virtual Leadership Summit; The Power of Your Story: Connect\, Reflect & Lead
DESCRIPTION:Join us for three days of leadership development and interactive workshops!  Attendees will hear from and network with other Phi Lambda Sigma members to inspire transformational change. \nThis conference schedule is jam-packed with opportunities for leadership development and networking opportunities! In addition to an educational seminar led by our keynote speaker\, Katie Quesada\, there will be leadership development workshops centered around GiANT curriculum and impactful sessions that will encourage collaboration among chapters! \nRegister now for the 2022 Phi Lambda Sigma Leadership Summit and get ready to learn the power of your story and how it can help you to connect\, reflect and lead!
URL:https://philambdasigma.org/event/2022-leadership-summit-the-power-of-your-story-connect-reflect-lead/
LOCATION:Virtual Conference
CATEGORIES:summit
ATTACH;FMTTYPE=image/png:https://philambdasigma.org/wp-content/uploads/2022/02/Untitled-design-18.png
END:VEVENT
END:VCALENDAR